{"text_format":"3","workbook":"xlsx","n_sheets":11,"sheets":["WSA-CC-Introduction & guide","WSA-CC-Energy","WSA-CC-Water","WSA-CC-Material","WSA-CC-Waste","WSA-CC-Travel","WSA-CC-Freight","WSA-CC-Accommodation","WSA-CC-Summary","Carbon Calculator-All","GHG conversion factor"],"not_rendered":{"charts":8,"images":4,"macros":1,"comments":2},"read":"whole","date_system":"1900"}

{"sheet":"WSA-CC-Introduction & guide","index":0,"n_rows":70,"n_cols":8,"rows_kept":70,"merged":[[5,2,9,10],[10,3,10,5],[12,2,13,10],[19,2,22,10],[25,2,25,10],[26,2,27,10],[29,2,30,10],[32,2,32,10],[35,2,42,10],[49,6,49,9],[62,2,63,10],[66,2,66,10]]}
[]
[null,"  ","Winchester School of Art",{"$nulls":3},"Carbon Calculator-2024"]
[]
[null,null,"Introduction & Guide"]
[]
[null,null,"Welcome to the University of Southampton Winchester School of Art Carbon Calculator (WSA-CC).\nThe WSA-CC is funded by the Centre for higher Education Practices (CHEP).\n\nKurniawan, M., Ashton, D. and Padovani, C. (2024) Carbon calculator for exploring the environmental impact of cultural and creative sector authentic assessment activities. Centre for Higher Education Practice. University of Southampton."]
[]
[]
[]
[]
[null,null,"DOI:","10.5258/SOTON/P1177"]
[]
[null,null,"The WSA-CC consists of 8 bespoke worksheets to measure the Carbon footprint produced through various process of learning and making:"]
[]
[null,null,"1.","The use of electrical Energy",null,null,"5.","Travel "]
[null,null,"2.","The use of water",null,null,"6.","Freight"]
[null,null,"3.","The use of materials",null,null,"7.","Accommodation "]
[null,null,"4.","The disposal of waste",null,null,"8.","Summary"]
[]
[null,null,"In measuring the Carbon footprints / emissions in the UK, the WSA-CC refer to the UK Government Conversion Factors for greenhouse gas (GHG) reports published annually by the Department for Energy Security & Net Zero and the Department for Environment Food & Rural Affairs. The WSA-CC -2024 is using the GHG Conversion factors 2024 that was published on 8 July 2024. The GHG conversion factors are shown in the last sheet and can be accessed in the following link:"]
[]
[]
[]
[null,null,"Greenhouse gas reporting: conversion factors 2024 - GOV.UK (www.gov.uk)"]
[]
[null,null,"Important Note:"]
[null,null,"To keep this carbon calculator up to date in the following year, users are required to refer for the latest GHG conversion factors and manually update the following sheet:"]
[]
[null,null,"GHG conversion factor"]
[null,null,"Users are only required to manually update the data in this worksheet and all other worksheet will be updated automatically. \nPlease, do not make any other changes as it will cause errors."]
[]
[]
[null,null,"This tool may not be suitable for users of assistive technology."]
[]
[null,null,"How to use:"]
[null,null,"To use the WSA-CC, users need to download this file and follow the instructions given on each sheet.\nThe worksheets are protected to help guide users to provide specific data on specific cells. \n\nPlease note that this worksheet uses 'Macro' function, limited to the 'Clear Data' button that allows users to clear the content of a worksheet. By default, Microsoft disables this function for everytime anyone opens this file. \n\nIf you see a security warning when you open a document or try to run a macro, you can choose to make it a trusted document and enable macros. This example is on an Excel workbook. "]
{"$rows_empty":10}
[{"$nulls":3},"1. Select Enable Content."]
[{"$nulls":3},"2. In the Security Warning dialog, select Yes to make the document trusted."]
{"$rows_empty":14}
[null,null,"If you see a warning 'A potentially dangerous macro has been blocked', please do not be alarmed. This worksheet does not contain any harmful codes. More information can be accessed on Microsoft support. "]
[]
[null,null,"A potentially dangerous macro has been blocked - Microsoft Support"]
[]
[null,null,"If the Enable content does not work, you need to unblock this worksheet by modifying the properties of the file as follows:"]
[{"$nulls":3},"1. Open Windows File Explorer and go to the folder where you saved the file."]
[{"$nulls":3},"2. Right-click the file and choose Properties from the context menu."]
[{"$nulls":3},"3. At the bottom of the General tab, select the Unblock checkbox and select OK."]

{"sheet":"WSA-CC-Energy","index":1,"n_rows":100,"n_cols":15,"rows_kept":100,"merged":[[1,2,1,7],[3,1,3,3],[4,1,4,3],[5,1,5,3],[9,2,9,12],[13,3,14,6],[15,3,16,6],[17,3,19,6],[20,3,21,6],[22,8,22,11],[23,2,24,12],[48,4,48,8],[49,4,49,8],[50,4,50,8],[51,4,51,8],[52,4,52,8],[53,4,53,8],[54,4,54,8],[57,4,57,8],[58,4,58,8],[59,4,59,8],[60,4,60,8],[61,4,61,8],[62,4,62,8],[63,4,63,8],[64,4,64,8],[65,4,65,8],[66,4,66,8],[67,4,67,8],[68,4,68,8],[69,4,69,8],[70,4,70,8],[71,4,71,8],[72,4,72,8],[73,4,73,8],[74,4,74,8],[75,4,75,8],[76,4,76,8],[77,4,77,8],[78,4,78,8],[79,4,79,8],[80,4,80,8],[81,4,81,8],[82,4,82,8],[83,4,83,8],[84,4,84,8],[85,4,85,8],[86,4,86,8],[89,4,89,8],[90,4,90,8],[91,4,91,8],[92,4,92,8],[93,4,93,8],[94,4,94,8],[95,4,95,8],[96,4,96,8],[97,4,97,8],[98,4,98,8],[99,4,99,8],[100,4,100,8],[101,4,101,8],[102,4,102,8],[103,4,103,8],[104,4,104,8],[105,4,105,8],[106,4,106,8],[107,4,107,8],[108,4,108,8],[109,4,109,8],[110,4,110,8],[111,4,111,8],[112,4,112,8],[113,4,113,8],[114,4,114,8],[115,4,115,8],[116,4,116,8],[117,4,117,8],[118,4,118,8]]}
[]
[null,"  ","Winchester School of Art",{"$nulls":5},{"$f":"+'WSA-CC-Introduction & guide'!G2","v":"Carbon Calculator-2024"}]
[]
[null,"Module:",{"$nulls":3},"Click here to type once to automatically fill the rest",{"$nulls":4},"Date:","Click here to Type"]
[{"$nulls":5},"Type here if you prefer to provide a name"]
[{"$nulls":5},"Type here if you prefer to provide student ID"]
[]
[null,null,"Energy",{"$nulls":9},"Sheet: 1 of 8"]
[]
[null,null,"This carbon calculator measures the carbon footprint emitted through the use of energy derived from the UK electrical grid. The use of electrical equipment that provides direct support to the student's learning and making process, such as personal computers (PCs), laptops, monitors, printers, 3D printers, washing & drying machines, sewing & embroidery machines, studio & photographic lightings, etc., are to be considered."]
[]
[{"$nulls":8},"Equipment Name","Number of equipment","Energy Consumption (Watt/ hour)","Hours","Carbon footprint (kgCO2e)",null," "]
[null,null,"Instructions:",{"$nulls":9},{"$f":"+'Carbon Calculator-All'!K2:K11","v":{"v":0,"d":"0.00"}}]
[null,null,"1.","Input the name of the equipment used.",{"$nulls":8},{"v":0,"d":"0.00"}]
[{"$nulls":12},{"v":0,"d":"0.00"}]
[null,null,"2.","Input the number of the equipment used.",{"$nulls":8},{"v":0,"d":"0.00"}]
[{"$nulls":12},{"v":0,"d":"0.00"}]
[null,null,"3.","Input the energy consumption used by each equipment.",{"$nulls":8},{"v":0,"d":"0.00"}]
[{"$nulls":12},{"v":0,"d":"0.00"}]
[{"$nulls":12},{"v":0,"d":"0.00"}]
[null,null,"4.","Input the hours of usage for each equipment",{"$nulls":8},{"v":0,"d":"0.00"}]
[{"$nulls":12},{"v":0,"d":"0.00"}]
[{"$nulls":8},"Total carbon footprint :",{"$nulls":3},{"$f":"SUM(_xlfn.ANCHORARRAY(M13))","v":{"v":0,"d":"0.00"}}]
[null,null,"You may refer to a list of equipments that are commonly used in WSA and their Wattage at the bottom of this sheet."]
{"$rows_empty":22}
[{"$nulls":4},"List of commonly used equipments at the WSA and their wattage"]
[]
[{"$nulls":4},"Equipment Name",{"$nulls":4},"Energy Consumption (Watt)"]
[{"$nulls":4},"Epson 1980WU projector",{"$nulls":4},388]
[{"$nulls":4},"Epson EB-945 projector",{"$nulls":4},281]
[{"$nulls":4},"Epson G6050WU projector",{"$nulls":4},498]
[{"$nulls":4},"43\" LG TV",{"$nulls":4},20]
[{"$nulls":4},"32\" LG TV",{"$nulls":4},27]
[{"$nulls":4},"28\" LG TV",{"$nulls":4},25]
[]
[]
[{"$nulls":4},"Equipment Name (Continued)",{"$nulls":4},"Energy Consumption (Watt)"]
[{"$nulls":4},"M1 iMac",{"$nulls":4},144]
[{"$nulls":4},"Samsung 32\" Monitor",{"$nulls":4},59]
[{"$nulls":4},"Samsung 27\" Monitor",{"$nulls":4},90]
[{"$nulls":4},"Mac mini 2018",{"$nulls":4},122]
[{"$nulls":4},"M1 Mac mini",{"$nulls":4},39]
[{"$nulls":4},"M2 Mac mini ",{"$nulls":4},100]
[{"$nulls":4},"M1 Max mac studio",{"$nulls":4},115]
[{"$nulls":4},"M2 Max Mac studio",{"$nulls":4},145]
[{"$nulls":4},"Wacom Cintiq 16",{"$nulls":4},65]
[]
[{"$nulls":4},"Light box with 2 Neon lights",{"$nulls":4},60]
[{"$nulls":4},"Embroidery machine-Brother ",{"$nulls":4},138]
[{"$nulls":4},"Fume cabinet",{"$nulls":4},"N/A"]
[{"$nulls":4},"Arm looms",{"$nulls":4},150]
[{"$nulls":4},"TC2 loom",{"$nulls":4},50]
[{"$nulls":4},"Knitting machines-SHIMA Mach2XS 153",{"$nulls":4},2200]
[{"$nulls":4},"Knitting machines-SHIMA SES122-S",{"$nulls":4},2200]
[{"$nulls":4},"Steam iron boiler-STIROVAP",{"$nulls":4},5600]
[{"$nulls":4},"Industrial linkers-Complette 66",{"$nulls":4},"N/A"]
[{"$nulls":4},"Industrial sewing machines-Juki",{"$nulls":4},400]
[{"$nulls":4},"Large heat press",{"$nulls":4},"N/A"]
[{"$nulls":4},"Small heat press-Transmatic",{"$nulls":4},1700]
[{"$nulls":4},"Irons",{"$nulls":4},1100]
[{"$nulls":4},"Winding machine-Meroni",{"$nulls":4},1500]
[{"$nulls":4},"Glue gun",{"$nulls":4},40]
[{"$nulls":4},"Hair dryer",{"$nulls":4},1600]
[{"$nulls":4},"Pressure washer",{"$nulls":4},"N/A"]
[{"$nulls":4},"Drying cabinets",{"$nulls":4},"N/A"]
[{"$nulls":4},"Exposing unit",{"$nulls":4},"N/A"]
[]
[]
[{"$nulls":4},"Equipment Name (Continued)",{"$nulls":4},"Energy Consumption (Watt)"]
[{"$nulls":4},"Gas rings",{"$nulls":4},"N/A"]
[{"$nulls":4},"Steamer",{"$nulls":4},"N/A"]
[{"$nulls":4},"Dryer",{"$nulls":4},"N/A"]
[{"$nulls":4},"Spin dryer",{"$nulls":4},"N/A"]
[{"$nulls":4},"Washing machine Electrolux W475H",{"$nulls":4},"N/A"]
[{"$nulls":4},"Baking cabinet",{"$nulls":4},"N/A"]
[{"$nulls":4},"Mimaki printer",{"$nulls":4},"N/A"]
[{"$nulls":4},"Heat gun",{"$nulls":4},"N/A"]
[{"$nulls":4},"Airone Filtration FC750 Fume Cupboard",{"$nulls":4},"N/A"]
[{"$nulls":4},"The Swimsuit dryer",{"$nulls":4},"N/A"]

{"sheet":"WSA-CC-Water","index":2,"n_rows":23,"n_cols":15,"rows_kept":23,"merged":[[1,2,1,7],[3,1,3,3],[4,1,4,3],[5,1,5,3],[9,2,9,12],[11,8,11,10],[14,3,15,6],[16,3,17,6],[19,2,22,6],[22,8,22,11]]}
[]
[null,"  ","Winchester School of Art",{"$nulls":5},{"$f":"+'WSA-CC-Energy'!I2","v":"Carbon Calculator-2024"}]
[]
[null,"Module:",{"$nulls":3},{"$f":"+'WSA-CC-Energy'!F4","v":"Click here to type once to automatically fill the rest"},{"$nulls":4},"Date:",{"$f":"+'WSA-CC-Energy'!L4","v":"Click here to Type"}]
[]
[]
[]
[null,null,"Water",{"$nulls":9},"Sheet: 2 of 8"]
[]
[null,null,"This carbon calculator measures the carbon footprint emitted through the use of water delivered through the mains supply network. The use of water in every activities that is in direct support to the student's learning and making process, such as washing fabrics, ..., etc., are to be considered."]
[]
[{"$nulls":8},"Activity",null,null,"Quantity (Litre)","Carbon footprint (kgCO2e)",null," "]
[{"$nulls":12},{"$f":"+'Carbon Calculator-All'!K16:K25","v":{"v":0,"d":"0.00"}}]
[null,null,"Instructions:",{"$nulls":9},{"v":0,"d":"0.00"}]
[null,null,"1.","Input the name of the water-consuming activity.",{"$nulls":8},{"v":0,"d":"0.00"}]
[{"$nulls":12},{"v":0,"d":"0.00"}]
[null,null,"2.","Input the amount of water consumed for each activity in litres.",{"$nulls":8},{"v":0,"d":"0.00"}]
[{"$nulls":12},{"v":0,"d":"0.00"}]
[null,null,"Note:",{"$nulls":9},{"v":0,"d":"0.00"}]
[null,null,"Water usage of less than 50 litres is likely to be considered insignificant, resulting in near 0 carbon footprint.",{"$nulls":9},{"v":0,"d":"0.00"}]
[{"$nulls":12},{"v":0,"d":"0.00"}]
[{"$nulls":12},{"v":0,"d":"0.00"}]
[{"$nulls":8},"Total carbon footprint :",{"$nulls":3},{"$f":"SUM(_xlfn.ANCHORARRAY(M13))","v":{"v":0,"d":"0.00"}}]

{"sheet":"WSA-CC-Material","index":3,"n_rows":67,"n_cols":20,"rows_kept":67,"merged":[[1,2,1,7],[3,1,3,3],[4,1,4,3],[5,1,5,3],[9,2,9,12],[10,9,10,10],[12,2,14,2],[12,3,14,6],[15,2,16,2],[15,3,16,6],[18,2,27,6],[28,2,30,6],[31,2,36,6],[33,8,33,11]]}
[]
[null,"  ","Winchester School of Art",{"$nulls":5},{"$f":"+'WSA-CC-Energy'!I2","v":"Carbon Calculator-2024"}]
[]
[null,"Module:",{"$nulls":3},{"$f":"+'WSA-CC-Energy'!F4","v":"Click here to type once to automatically fill the rest"},{"$nulls":4},"Date:",{"$f":"+'WSA-CC-Energy'!L4","v":"Click here to Type"}]
[]
[]
[]
[null,null,"Material",{"$nulls":9},"Sheet: 3 of 8"]
[]
[null,null,"This carbon calculator measures the carbon footprint produced through the use of various materials. The use of any materials in every activity that is in direct support of the student's learning and making process are to be considered. The assessment of carbon footprints will vary depending on the source of each material. "]
[{"$nulls":8},"Type of material","Source",null,"Quantity","Carbon footprint (kgCO2e)",{"$nulls":5},"GHG Conversion","Carbon Footprint"]
[null,null,"Instructions:",{"$nulls":5},"Common Metal (kg)",{"$nulls":3},{"$f":"IF(J12=\"Primary material production\",T13,IF(J12=\"Closed-loop\",T14,\"0.00\"))","v":"0.00"},null," "]
[null,null,"1.","Choose the relevant source for the materials used. Otherwise, leave it blank. ",{"$nulls":4},"Aluminium cans & foil (kg)",{"$nulls":3},{"$f":"IF(J13=\"Primary material production\",T15,IF(J13=\"Closed-loop\",T16,\"0.00\"))","v":"0.00"},null,null,"Common Metal","Primary",{"$f":"IF(J12=\"Primary material production\",L12,\"0\")","v":"0"},{"$f":"+'GHG conversion factor'!D6:D11","v":{"v":3815.78473,"d":"3,815.785"}},{"$f":"(R13/1000)*S13","v":{"v":0,"d":"0.00"}}]
[{"$nulls":8},"Scrap Metal (kg)",{"$nulls":3},{"$f":"IF(J14=\"Primary material production\",T17,IF(J14=\"Closed-loop\",T18,\"0.00\"))","v":"0.00"},null,null,"Common Metal","Closed-loop",{"$f":"IF(J12=\"Closed-loop\",L12,\"0\")","v":"0"},{"v":1630.78661,"d":"1,630.787"},{"$f":"(R14/1000)*S14","v":{"v":0,"d":"0.00"}}]
[{"$nulls":8},"Soil/ clay (kg)","N/A",null,null,{"$f":"+'Carbon Calculator-All'!K36","v":{"v":0,"d":"0.00"}},null,null,"Aluminium","Primary",{"$f":"IF(J13=\"Primary material production\",L13,\"0\")","v":"0"},{"v":9106.91851,"d":"9,106.919"},{"$f":"(R15/1000)*S15","v":{"v":0,"d":"0.00"}}]
[null,null,"2.","Provide the quantity of materials used. ",{"$nulls":4},"Plasterboard (kg)",{"$nulls":3},{"$f":"IF(J16=\"Primary material production\",T19,IF(J16=\"Closed-loop\",T20,\"0.00\"))","v":"0.00"},null,null,"Aluminium","Closed-loop",{"$f":"IF(J13=\"Closed-loop\",L13,\"0\")","v":"0"},{"v":990.4781,"d":"990.478"},{"v":0,"d":"0.00"}]
[{"$nulls":8},"Rubber/ Tyres (kg)",{"$nulls":3},{"$f":"IF(J17=\"Primary material production\",T21,IF(J17=\"Re-used\",T22,\"0.00\"))","v":"0.00"},null,null,"Scrap Metal","Primary",{"$f":"IF(J14=\"Primary material production\",L14,\"0\")","v":"0"},{"v":3464.56448,"d":"3,464.564"},{"v":0,"d":"0.00"}]
[null,null,"Notes:",{"$nulls":5},"Wood (kg)",{"$nulls":3},{"$f":"IF(J18=\"Primary material production\",T23,IF(J18=\"Re-used\",T24,IF(J18=\"Closed-loop\",T25,\"0.00\")))","v":"0.00"},null,null,"Scrap Metal","Closed-loop",{"$f":"IF(J14=\"Closed-loop\",L14,\"0\")","v":"0"},{"v":1620.27606,"d":"1,620.276"},{"v":0,"d":"0.00"}]
[null,null,"Primary material production : Materials made from virgin stock.\nRe-used: \nMaterials that are re-used instead of being disposed of.\nClosed-loop source: \nMaterials made from recycled content where the previous product was the same as the new product.",{"$nulls":5},"Glass (kg)",{"$nulls":3},{"$f":"IF(J19=\"Primary material production\",T26,IF(J19=\"Closed-loop\",T27,\"0.00\"))","v":"0.00"},null,null,"Plasterboard","Primary",{"$f":"IF(J16=\"Primary material production\",L16,\"0\")","v":"0"},{"$f":"+'GHG conversion factor'!D13:D19","v":{"v":120.05,"d":"120.050"}},{"v":0,"d":"0.00"}]
[{"$nulls":8},"Raw Fabric (kg-unspecified)","Primary material production",null,null,{"$f":"+T28","v":{"v":0,"d":"0.00"}},null,null,"Plasterboard","Closed-loop",{"$f":"IF(J16=\"Closed-loop\",L16,\"0\")","v":"0"},{"v":32.17,"d":"32.170"},{"v":0,"d":"0.00"}]
[{"$nulls":8},"Recycled Fabric (kg-unspecified)","Re-used",null,null,{"$f":"+T29","v":{"v":0,"d":"0.00"}},null,null,"Rubber/ Tyres","Primary",{"$f":"IF(J17=\"Primary material production\",L17,\"0\")","v":"0"},{"v":3335.5719,"d":"3,335.572"},{"v":0,"d":"0.00"}]
[{"$nulls":8},"Food & Drink (kg)","N/A",null,null,{"$f":"+'Carbon Calculator-All'!K48","v":{"v":0,"d":"0.00"}},null,null,"Rubber/ Tyres","Re-used",{"$f":"IF(J17=\"Re-used\",L17,\"0\")","v":"0"},{"v":731.21789,"d":"731.218"},{"v":0,"d":"0.00"}]
[{"$nulls":8},"Average Plastic (kg)",{"$nulls":3},{"$f":"IF(J23=\"Primary material production\",T30,IF(J23=\"Closed-loop\",T31,\"0.00\"))","v":"0.00"},null,null,"Wood","Primary",{"$f":"IF(J18=\"Primary material production\",L18,\"0\")","v":"0"},{"v":269.50416,"d":"269.504"},{"v":0,"d":"0.00"}]
[{"$nulls":8},"Plastic Film (kg)",{"$nulls":3},{"$f":"IF(J24=\"Primary material production\",T32,IF(J24=\"Closed-loop\",T33,\"0.00\"))","v":"0.00"},null,null,"Wood","Re-used",{"$f":"IF(J18=\"Re-used\",L18,\"0\")","v":"0"},{"v":38.54288,"d":"38.543"},{"$f":"(R24/1000)*S24","v":{"v":0,"d":"0.00"}}]
[{"$nulls":8},"Card Board (kg)",{"$nulls":3},{"$f":"IF(J25=\"Primary material production\",T34,IF(J25=\"Closed-loop\",T35,\"0.00\"))","v":"0.00"},null,null,"Wood","Closed-loop",{"$f":"IF(J18=\"Closed-loop\",L18,\"0\")","v":"0"},{"v":112.96968372342414,"d":"112.970"},{"v":0,"d":"0.00"}]
[{"$nulls":8},"Paper (kg)",{"$nulls":3},{"$f":"IF(J26=\"Primary material production\",T36,IF(J26=\"Closed-loop\",T38,\"0.00\"))","v":"0.00"},null,null,"Glass","Primary",{"$f":"IF(J19=\"Primary material production\",L19,\"0\")","v":"0"},{"$f":"+'GHG conversion factor'!D20:D23","v":{"v":1402.76667,"d":"1,402.767"}},{"v":0,"d":"0.00"}]
[{"$nulls":8},"Fabric: Wool (m2)","N/A",null,null,{"$f":"+T39:T45","v":{"v":0,"d":"0.00"}},null,null,"Glass","Closed-loop",{"$f":"IF(J19=\"Closed-loop\",L19,\"0\")","v":"0"},{"v":823.18954,"d":"823.190"},{"v":0,"d":"0.00"}]
[{"$nulls":8},"Fabric: Acrylic (m2)","N/A",null,null,{"v":0,"d":"0.00"},null,null,"Raw Fabric","Primary",{"$f":"+L20","v":0},{"v":22310,"d":"22,310.00"},{"$f":"(R28/1000)*S28","v":{"v":0,"d":"0.00"}}]
[null,null,"Please note that the list of specific fabrics are measured in m2 of usage, NOT in kg.",{"$nulls":5},"Fabric: Cotton (m2)","N/A",null,null,{"v":0,"d":"0.00"},null,null,"Recycled Fabric","Re-used",{"$f":"+L21","v":0},152.25,{"$f":"(R29/1000)*S29","v":{"v":0,"d":"0.00"}}]
[{"$nulls":8},"Fabric: Silk (m2)","N/A",null,null,{"v":0,"d":"0.00"},null,null,"Average Plastic","Primary",{"$f":"IF(J23=\"Primary material production\",L23,\"0\")","v":"0"},{"$f":"+'GHG conversion factor'!D25:D28","v":{"v":3164.78049,"d":"3,164.780"}},{"$f":"(R30/1000)*S30","v":{"v":0,"d":"0.00"}}]
[{"$nulls":8},"Fabric: Nylon (m2)","N/A",null,null,{"v":0,"d":"0.00"},null,null,"Average Plastic","Closed-loop",{"$f":"IF(J23=\"Closed-loop\",L23,\"0\")","v":"0"},{"v":1566.38638,"d":"1,566.386"},{"v":0,"d":"0.00"}]
[null,null,"If you can't find the materials on this list, please add them on the table at the bottom of this sheet. However, we won't be able to measure the carbon foot print of those materials at this point.",{"$nulls":5},"Fabric: Polyester (m2)","N/A",null,null,{"v":0,"d":"0.00"},null,null,"Plastic Film","Primary",{"$f":"IF(J24=\"Primary material production\",L24,\"0\")","v":"0"},{"v":2910.46529,"d":"2,910.465"},{"v":0,"d":"0.00"}]
[{"$nulls":8},"Fabric: Linen (m2)","N/A",null,null,{"v":0,"d":"0.00"},null,null,"Plastic Film","Closed-loop",{"$f":"IF(J24=\"Closed-loop\",L24,\"0\")","v":"0"},{"v":1094.58257,"d":"1,094.583"},{"v":0,"d":"0.00"}]
[{"$nulls":8},"Total carbon footprint :",{"$nulls":3},{"$f":"SUM(M12:M33)","v":{"v":0,"d":"0.00"}},null,null,"Card Board ","Primary",{"$f":"IF(J25=\"Primary material production\",L25,\"0\")","v":"0"},{"$f":"+'GHG conversion factor'!D29:D32","v":{"v":1193.96586,"d":"1,193.966"}},{"v":0,"d":"0.00"}]
[{"$nulls":15},"Board ","Closed-loop",{"$f":"IF(J25=\"Closed-loop\",L25,\"0\")","v":"0"},{"v":1092.35486,"d":"1,092.355"},{"v":0,"d":"0.00"}]
[{"$nulls":15},"Paper ","Primary",{"$f":"IF(J26=\"Primary material production\",L26,\"0\")","v":"0"},{"v":1339.31834,"d":"1,339.318"},{"v":0,"d":"0.00"}]
[{"$nulls":18},{"v":1044.31834,"d":"1,044.318"}]
[{"$nulls":15},"Paper ","Closed-loop",{"$f":"IF(J26=\"Closed-loop\",L26,\"0\")","v":"0"},null,{"v":0,"d":"0.00"}]
[{"$nulls":15},"Fabric: Wool",null,{"$f":"+L27","v":0},{"$f":"+'GHG conversion factor'!G23:G29","v":6.945},{"$f":"R39*S39","v":{"v":0,"d":"0.00"}}]
[{"$nulls":15},"Fabric: Acrylic",null,0,5.765,{"$f":"R40*S40","v":{"v":0,"d":"0.00"}}]
[{"$nulls":15},"Fabric: Cotton",null,0,4.15,{"v":0,"d":"0.00"}]
[{"$nulls":15},"Fabric: Silk",null,0,3.815,{"v":0,"d":"0.00"}]
[{"$nulls":15},"Fabric: Nylon",null,0,3.655,{"v":0,"d":"0.00"}]
[{"$nulls":15},"Fabric: Polyester",null,0,3.2,{"v":0,"d":"0.00"}]
[{"$nulls":15},"Fabric: Linen",null,0,2.25,{"v":0,"d":"0.00"}]
{"$rows_empty":17}
[{"$nulls":8},"Name other materials that you've used but are not available on the table above. "]
[{"$nulls":8},"You might try to find their carbon footprint from:"]
[{"$nulls":8},"CO2 Everything | Carbon Footprints of Products & Activities"]
[]
[{"$nulls":8},"Type of material","Quantity","Carbon footprint (kgCO2e)"]

{"sheet":"WSA-CC-Waste","index":4,"n_rows":83,"n_cols":20,"rows_kept":83,"merged":[[1,2,1,7],[3,1,3,3],[4,1,4,3],[5,1,5,3],[9,2,9,12],[11,9,11,10],[12,2,13,2],[12,3,13,6],[14,2,15,2],[14,3,16,6],[18,2,26,6],[26,8,26,11],[63,9,63,10],[64,9,64,10],[65,9,65,10],[66,9,66,10],[67,9,67,10],[68,9,68,10],[69,9,69,10],[70,9,70,10],[71,9,71,10],[72,9,72,10],[73,9,73,10],[74,9,74,10],[75,9,75,10],[76,9,76,10],[77,9,77,10],[78,9,78,10],[79,9,79,10],[80,9,80,10],[81,9,81,10],[82,9,82,10]]}
[]
[null,"  ","Winchester School of Art",{"$nulls":5},{"$f":"+'WSA-CC-Energy'!I2","v":"Carbon Calculator-2024"}]
[]
[null,"Module:",{"$nulls":3},{"$f":"+'WSA-CC-Energy'!F4","v":"Click here to type once to automatically fill the rest"},{"$nulls":4},"Date:",{"$f":"+'WSA-CC-Energy'!L4","v":"Click here to Type"}]
[]
[]
[]
[null,null,"Waste Disposal",{"$nulls":9},"Sheet: 4 of 8"]
[]
[null,null,"Almost all learning processes create waste. This carbon calculator measures the carbon emissions produced in the disposal of various types of waste. The assessment of carbon footprints will vary depending on the disposal method for each waste. "]
[]
[null,null,"Instructions:",{"$nulls":5},"Type of waste","Disposal method",null,"Quantity (Kg)","Carbon footprint (kgCO2e)",null," ","Waste","Disposal method","Quantity","GHG Conversion","Carbon Footprint"]
[null,null,"1.","Choose the relevant disposal method for each waste. ",{"$nulls":4},"Water* in litres",{"$nulls":3},{"$f":"+'Carbon Calculator-All'!K77","v":{"v":0,"d":"0.00"}},null,null,"Soil","Closed-loop",{"$f":"IF(AND(I14=\"Soil\",J14=\"Closed-loop\"),L14,\"0\")","v":"0"},{"$f":"+'GHG conversion factor'!D35:D36","v":{"v":0.18574,"d":"0.186"}},{"$f":"(R13/1000)*S13","v":{"v":0,"d":"0.00"}}]
[{"$nulls":8},"Soil",{"$nulls":3},{"$f":"IF(AND(I14=\"Soil\",J14=\"Closed-loop\"),T13,IF(J14=\"Landfill\",T14,\"0.00\"))","v":"0.00"},null,null,"Soil","Landfill",{"$f":"IF(AND(I14=\"Soil\",J14=\"Landfill\"),L14,\"0\")","v":"0"},{"v":0.98485,"d":"0.985"},{"$f":"(R14/1000)*S14","v":{"v":0,"d":"0.00"}}]
[null,null,"2.","Provide the quantity of waste in kg, except for water waste that is in litres.",{"$nulls":4},"Plasterboard",{"$nulls":3},{"$f":"IF(AND(I15=\"Plasterboard\",J15=\"Closed-loop\"),T15,IF(J15=\"Landfill\",T16,\"0.00\"))","v":"0.00"},null,null,"Plasterboard","Closed-loop",{"$f":"IF(AND(I15=\"Plasterboard\",J15=\"Closed-loop\"),L15,\"0\")","v":"0"},{"$f":"+'GHG conversion factor'!D38:D39","v":{"v":6.41061,"d":"6.411"}},{"$f":"(R15/1000)*S15","v":{"v":0,"d":"0.00"}}]
[{"$nulls":8},"Rubber/ Tyres",{"$nulls":3},{"$f":"+'Carbon Calculator-All'!K82","v":{"v":0,"d":"0.00"}},null,null,"Plasterboard","Landfill",{"$f":"IF(AND(I15=\"Plasterboard\",J15=\"Landfill\"),L15,\"0\")","v":"0"},{"v":71.95,"d":"71.950"},{"v":0,"d":"0.00"}]
[{"$nulls":8},"Wood",{"$nulls":3},{"$f":"IF(J17=\"Closed-loop\",T17,IF(J17=\"Combustion\",T18,IF(J17=\"Composting\",T19,IF(J17=\"Landfill\",T20,\"0.00\"))))","v":"0.00"},null,null,"Wood","Closed-loop",{"$f":"IF(J17=\"Closed-loop\", L17, \"0\")","v":"0"},{"$f":"+'GHG conversion factor'!D41:D44","v":{"v":6.41061,"d":"6.411"}},{"v":0,"d":"0.00"}]
[null,null,"Notes:",{"$nulls":5},"Book",{"$nulls":3},{"$f":"IF(J18=\"Closed-loop\",T21,IF(J18=\"Combustion\",T22,IF(J18=\"Composting\",T23,IF(J18=\"Landfill\",T24,\"0.00\"))))","v":"0.00"},null,null,"Wood","Combustion",{"$f":"IF(J17=\"Combustion\", L17, \"0\")","v":"0"},{"v":6.41061,"d":"6.411"},{"v":0,"d":"0.00"}]
[null,null,"Landfill include collection, transportation and landfill emissions (‘gate to grave’). \nOpen-loop recycling is the process of recycling material into other products.\nClosed-loop recycling is the process of recycling material back into the same product.\nCombustion: Energy is recovered from the waste through incineration and subsequent generation of electricity.\nComposting: CO₂e emitted as a result of composting a waste.",{"$nulls":5},"Glass",{"$nulls":3},{"$f":"IF(J19=\"Open-loop\",T25,IF(J19=\"Closed-loop\",T26,IF(J19=\"Combustion\",T27,IF(J19=\"Landfill\",T28,\"0.00\"))))","v":"0.00"},null,null,"Wood","Composting",{"$f":"IF(J17=\"Composting\", L17, \"0\")","v":"0"},{"v":8.88386,"d":"8.884"},{"v":0,"d":"0.00"}]
[{"$nulls":8},"Fabric/ Clothing",{"$nulls":3},{"$f":"IF(J20=\"Closed-loop\",T29,IF(J20=\"Combustion\",T30,IF(J20=\"Landfill\",T31,\"0.00\")))","v":"0.00"},null,null,"Wood","Landfill",{"$f":"IF(J17=\"Landfill\", L17, \"0\")","v":"0"},{"v":925.24423,"d":"925.244"},{"v":0,"d":"0.00"}]
[{"$nulls":8},"Household Refuse",{"$nulls":3},{"$f":"IF(J21=\"Combustion\", T32, IF(J21=\"Landfill\", T33, \"0.00\"))","v":"0.00"},null,null,"Book","Closed-loop",{"$f":"IF(J18=\"Closed-loop\", L18, \"0\")","v":"0"},{"$f":"+'GHG conversion factor'!D45:D48","v":{"v":6.41061,"d":"6.411"}},{"v":0,"d":"0.00"}]
[{"$nulls":8},"Food & Drink",{"$nulls":3},{"$f":"IF(J22=\"Combustion\",T34,IF(J22=\"Composting\",T35,IF(J22=\"Landfill\",T36,\"0.00\")))","v":"0.00"},null,null,"Book","Combustion",{"$f":"IF(J18=\"Combustion\", L18, \"0\")","v":"0"},{"v":6.41061,"d":"6.411"},{"v":0,"d":"0.00"}]
[{"$nulls":8},"Commercial & Industrial Refuse",{"$nulls":3},{"$f":"IF(J23=\"Combustion\", T37, IF(J23=\"Landfill\", T38, \"0.00\"))","v":"0.00"},null,null,"Book","Composting",{"$f":"IF(J18=\"Composting\", L18, \"0\")","v":"0"},{"v":8.88386,"d":"8.884"},{"v":0,"d":"0.00"}]
[{"$nulls":8},"All Metal",{"$nulls":3},{"$f":"IF(J24=\"Open/ Closed-loop/ Combustion\", T39, IF(J24=\"Landfill\", T40, \"0.00\"))","v":"0.00"},null,null,"Book","Landfill",{"$f":"IF(J18=\"Landfill\", L18, \"0\")","v":"0"},{"v":1164.39015,"d":"1,164.390"},{"$f":"(R24/1000)*S24","v":{"v":0,"d":"0.00"}}]
[{"$nulls":8},"All Plastic",{"$nulls":3},{"$f":"IF(J25=\"Open/ Closed-loop/ Combustion\", T41, IF(J25=\"Landfill\", T42, \"0.00\"))","v":"0.00"},null,null,"Glass","Open-loop",{"$f":"IF(J19=\"Open-loop\", L19, \"0\")","v":"0"},{"$f":"+'GHG conversion factor'!D49:D52","v":{"v":6.41061,"d":"6.411"}},{"$f":"(R25/1000)*S25","v":{"v":0,"d":"0.00"}}]
[{"$nulls":8},"Paper & Card Board",{"$nulls":3},{"$f":"IF(J26=\"Closed-loop/ Combustion\",T43,IF(J26=\"Composting\",T44,IF(J26=\"Landfill\",T45,\"0.00\")))","v":"0.00"},null,null,"Glass","Closed-loop",{"$f":"IF(J19=\"Closed-loop\", L19, \"0\")","v":"0"},{"v":6.41061,"d":"6.411"},{"$f":"(R26/1000)*S26","v":{"v":0,"d":"0.00"}}]
[{"$nulls":8},"Total carbon footprint :",{"$nulls":3},{"$f":"SUM(M13:M26)","v":{"v":0,"d":"0.00"}},null,null,"Glass","Combustion",{"$f":"IF(J19=\"Combustion\", L19, \"0\")","v":"0"},{"v":6.41061,"d":"6.411"},{"$f":"(R27/1000)*S27","v":{"v":0,"d":"0.00"}}]
[{"$nulls":15},"Glass","Landfill",{"$f":"IF(J19=\"Landfill\", L19, \"0\")","v":"0"},{"v":8.88386,"d":"8.884"},{"$f":"(R28/1000)*S28","v":{"v":0,"d":"0.00"}}]
[{"$nulls":15},"Fabric/ Clothing","Closed-loop",{"$f":"IF(J20=\"Closed-loop\", L20, \"0\")","v":"0"},{"$f":"+'GHG conversion factor'!D53:D55","v":{"v":6.41061,"d":"6.411"}},{"v":0,"d":"0.00"}]
[{"$nulls":15},"Fabric/ Clothing","Combustion",{"$f":"IF(J20=\"Combustion\", L20, \"0\")","v":"0"},{"v":6.41061,"d":"6.411"},{"v":0,"d":"0.00"}]
[{"$nulls":15},"Fabric/ Clothing","Landfill",{"$f":"IF(J20=\"Landfill\", L20, \"0\")","v":"0"},{"v":496.68303,"d":"496.683"},{"v":0,"d":"0.00"}]
[{"$nulls":15},"Household Refuse ","Combustion",{"$f":"IF(J21=\"Combustion\", L21, \"0\")","v":"0"},{"$f":"+'GHG conversion factor'!D56:D57","v":{"v":6.41061,"d":"6.411"}},{"v":0,"d":"0.00"}]
[{"$nulls":15},"Household Refuse ","Landfill",{"$f":"IF(J21=\"Landfill\", L21, \"0\")","v":"0"},{"v":497.04416,"d":"497.044"},{"v":0,"d":"0.00"}]
[{"$nulls":15},"Food & Drink","Combustion",{"$f":"IF(J22=\"Combustion\", L22, \"0\")","v":"0"},{"$f":"+'GHG conversion factor'!D58:D60","v":{"v":6.41061,"d":"6.411"}},{"v":0,"d":"0.00"}]
[{"$nulls":15},"Food & Drink","Composting",{"$f":"IF(J22=\"Composting\", L22, \"0\")","v":"0"},{"v":8.88386,"d":"8.884"},{"v":0,"d":"0.00"}]
[{"$nulls":15},"Food & Drink","Landfill",{"$f":"IF(J22=\"Landfill\", L22, \"0\")","v":"0"},{"v":700.20961,"d":"700.210"},{"v":0,"d":"0.00"}]
[{"$nulls":15},"Commercial & Industrial Refuse","Combustion",{"$f":"IF(J23=\"Combustion\", L23, \"0\")","v":"0"},{"$f":"+'GHG conversion factor'!D61:D62","v":{"v":6.41061,"d":"6.411"}},{"v":0,"d":"0.00"}]
[{"$nulls":15},"Commercial & Industrial Refuse","Landfill",{"$f":"IF(J23=\"Landfill\", L23, \"0\")","v":"0"},{"v":520.3342,"d":"520.334"},{"v":0,"d":"0.00"}]
[{"$nulls":15},"All Metal","Open/ Closed-loop/ Combustion",{"$f":"IF(J24=\"Open/ Closed-loop/ Combustion\", L24, \"0\")","v":"0"},{"$f":"+'GHG conversion factor'!D63:D64","v":{"v":6.41061,"d":"6.411"}},{"v":0,"d":"0.00"}]
[{"$nulls":15},"All Metal","Landfill",{"$f":"IF(J24=\"Landfill\", L24, \"0\")","v":"0"},{"v":8.88386,"d":"8.884"},{"v":0,"d":"0.00"}]
[{"$nulls":15},"All Plastic","Open/ Closed-loop/ Combustion",{"$f":"IF(J25=\"Open/ Closed-loop/ Combustion\", L25, \"0\")","v":"0"},{"$f":"+'GHG conversion factor'!D65:D66","v":{"v":6.41061,"d":"6.411"}},{"v":0,"d":"0.00"}]
[{"$nulls":15},"All Plastic","Landfill",{"$f":"IF(J25=\"Landfill\", L25, \"0\")","v":"0"},{"v":8.88386,"d":"8.884"},{"v":0,"d":"0.00"}]
[{"$nulls":15},"Paper & Card Board","Closed-loop/ Combustion",{"$f":"IF(J26=\"Closed-loop/ Combustion\", L26, \"0\")","v":"0"},{"$f":"+'GHG conversion factor'!D67:D69","v":{"v":6.41061,"d":"6.411"}},{"v":0,"d":"0.00"}]
[{"$nulls":15},"Paper & Card Board","Composting",{"$f":"IF(J26=\"Composting\", L26, \"0\")","v":"0"},{"v":8.88386,"d":"8.884"},{"v":0,"d":"0.00"}]
[{"$nulls":15},"Paper & Card Board","Landfill",{"$f":"IF(J26=\"Landfill\", L26, \"0\")","v":"0"},{"v":1164.39015,"d":"1,164.390"},{"v":0,"d":"0.00"}]
{"$rows_empty":16}
[{"$nulls":8},"Name other waste that you've produced but are not listed on the table above. "]
[]
[{"$nulls":8},"Type of material","Disposable Method",null,"Quantity","Carbon footprint (kgCO2e)"]
[{"$nulls":12},"N/A"]
[{"$nulls":12},"N/A"]
[{"$nulls":12},"N/A"]
[{"$nulls":12},"N/A"]
[{"$nulls":12},"N/A"]
[{"$nulls":12},"N/A"]
[{"$nulls":12},"N/A"]
[{"$nulls":12},"N/A"]
[{"$nulls":12},"N/A"]
[{"$nulls":12},"N/A"]
[{"$nulls":12},"N/A"]
[{"$nulls":12},"N/A"]
[{"$nulls":12},"N/A"]
[{"$nulls":12},"N/A"]
[{"$nulls":12},"N/A"]
[{"$nulls":12},"N/A"]
[{"$nulls":12},"N/A"]
[{"$nulls":12},"N/A"]
[{"$nulls":12},"N/A"]

{"sheet":"WSA-CC-Travel","index":5,"n_rows":45,"n_cols":20,"rows_kept":45,"merged":[[1,2,1,7],[3,1,3,3],[4,1,4,3],[5,1,5,3],[9,2,9,12],[11,9,11,10],[12,3,13,7],[14,3,15,6],[17,2,27,6],[23,8,23,11]]}
[]
[null,"  ","Winchester School of Art",{"$nulls":5},{"$f":"+'WSA-CC-Energy'!I2","v":"Carbon Calculator-2024"}]
[]
[null,"Module:",{"$nulls":3},{"$f":"+'WSA-CC-Energy'!F4","v":"Click here to type once to automatically fill the rest"},{"$nulls":4},"Date:",{"$f":"+'WSA-CC-Energy'!L4","v":"Click here to Type"}]
[]
[]
[]
[null,null,"Travel",{"$nulls":9},"Sheet: 5 of 8"]
[]
[null,null,"This carbon calculator measures the carbon footprint produced by a student in their travel related to learning and making processes. The assessment of carbon footprints will vary depending on the various modes of transportation, the type of vehicle used, and the travelling distance. "]
[]
[null,null,"Instructions:",{"$nulls":5},"Modes of transportation","Specific variables",null,"Distance\n(km)","Carbon footprint (kgCO2e)",null," ",null,null,"Distance","GHG Conversion","Carbon Footprint"]
[null,null,"1.","Choose the relevant modes of transportation & its variables",{"$nulls":4},"Air travel for an average passenger",{"$nulls":3},{"$f":"IF(J13=\"Domestic\",T13,IF(J13=\"Short-haul\",T14,IF(J13=\"Long-haul\",T15,\"0.00\")))","v":"0.00"},null,null,"Air travel","Domestic",{"$f":"IF(J13=\"Domestic\",L13,\"0\")","v":"0"},{"$f":"+'GHG conversion factor'!D73:D75","v":{"v":0.27257,"d":"0.273"}},{"$f":"R13*S13","v":{"v":0,"d":"0.00"}}]
[{"$nulls":8},"Sea travel",{"$nulls":3},{"$f":"IF(J14=\"Foot-passenger\", T16, IF(J14=\"Car-passenger\", T17, \"0.00\"))","v":"0.00"},null,null,"Air travel","Short-haul",{"$f":"IF(J13=\"Short-haul\",L13,\"0\")","v":"0"},{"v":0.18592,"d":"0.186"},{"$f":"R14*S14","v":{"v":0,"d":"0.00"}}]
[null,null,"2.","Provide the length of journey in km.",{"$nulls":4},"Diesel car",{"$nulls":3},{"$f":"IF(J15=\"Small\",T18,IF(J15=\"Medium\",T19,IF(J15=\"Large\",T20,\"0.00\")))","v":"0.00"},null,null,"Air travel","Long-haul",{"$f":"IF(J13=\"Long-haul\",L13,\"0\")","v":"0"},{"v":0.26128,"d":"0.261"},{"v":0,"d":"0.00"}]
[{"$nulls":8},"Petrol car",{"$nulls":3},{"$f":"IF(J16=\"Small\",T21,IF(J16=\"Medium\",T22,IF(J16=\"Large\",T23,\"0.00\")))","v":"0.00"},null,null,"Sea travel","Foot-passenger",{"$f":"IF(J14=\"Foot-passenger\",L14,\"0\")","v":"0"},{"$f":"+'GHG conversion factor'!D76:D77","v":{"v":0.01871,"d":"0.019"}},{"v":0,"d":"0.00"}]
[null,null,"Notes:",{"$nulls":5},"Hybrid car",{"$nulls":3},{"$f":"IF(J17=\"Small\",T24,IF(J17=\"Medium\",T25,IF(J17=\"Large\",T26,\"0.00\")))","v":"0.00"},null,null,"Sea travel","Car-passenger",{"$f":"IF(J14=\"Car-passenger\",L14,\"0\")","v":"0"},{"v":0.12933,"d":"0.129"},{"v":0,"d":"0.00"}]
[null,null,"The business travel by air or sea are for use for passenger and not for freighting goods. Freight calculator is available in the next worksheet.\n'For air travel: \n 'Average passenger' does not account the difference in flight type (economy, business, first class, etc.).\nDomestic flights are those between UK airports.\nShort-haul is air travel to outside of UK with a distance up to 3,700 km.\nLong-haul is air travel with a distance of > 3,700 km.",{"$nulls":5},"Plug-in hybrid electric vehicle",{"$nulls":3},{"$f":"IF(J18=\"Small\",T27,IF(J18=\"Medium\",T29,IF(J18=\"Large\",T30,\"0.00\")))","v":"0.00"},null,null,"Diesel car","Small",{"$f":"IF(J15=\"Small\",L15,\"0\")","v":"0"},{"$f":"+'GHG conversion factor'!D78:D80","v":{"v":0.13994,"d":"0.140"}},{"v":0,"d":"0.00"}]
[{"$nulls":8},"Battery electric vehicle",{"$nulls":3},{"$f":"IF(J19=\"Small\",T31,IF(J19=\"Medium\",T32,IF(J19=\"Large\",T33,\"0.00\")))","v":"0.00"},null,null,"Diesel car","Medium",{"$f":"IF(J15=\"Medium\",L15,\"0\")","v":"0"},{"v":0.16807,"d":"0.168"},{"v":0,"d":"0.00"}]
[{"$nulls":8},"Motorbike",{"$nulls":3},{"$f":"IF(J20=\"Small\",T34,IF(J20=\"Medium\",T35,IF(J20=\"Large\",T36,\"0.00\")))","v":"0.00"},null,null,"Diesel car","Large",{"$f":"IF(J15=\"Large\",L15,\"0\")","v":"0"},{"v":0.20729,"d":"0.207"},{"v":0,"d":"0.00"}]
[{"$nulls":8},"Taxi per passenger",{"$nulls":3},{"$f":"IF(J21=\"Regular taxi\", T37, IF(J21=\"Black cab\", T38, \"0.00\"))","v":"0.00"},null,null,"Petrol car","Small",{"$f":"IF(J16=\"Small\",L16,\"0\")","v":"0"},{"$f":"+'GHG conversion factor'!D81:D83","v":{"v":0.1437,"d":"0.144"}},{"v":0,"d":"0.00"}]
[{"$nulls":8},"Bus per passenger",{"$nulls":3},{"$f":"IF(J22=\"Local-NOT London bus\",T39,IF(J22=\"Local London bus\",T40,IF(J22=\"Coach\",T41,\"0.00\")))","v":"0.00"},null,null,"Petrol car","Medium",{"$f":"IF(J16=\"Medium\",L16,\"0\")","v":"0"},{"v":0.17726,"d":"0.177"},{"v":0,"d":"0.00"}]
[{"$nulls":8},"Rail per passenger",{"$nulls":3},{"$f":"IF(J23=\"National\",T42,IF(J23=\"International\",T43,IF(J23=\"Light & Tram\",T44,IF(J23=\"London Underground\",T45,\"0.00\"))))","v":"0.00"},null,null,"Petrol car","Large",{"$f":"IF(J16=\"Large\",L16,\"0\")","v":"0"},{"v":0.26885,"d":"0.269"},{"v":0,"d":"0.00"}]
[{"$nulls":8},"Total carbon footprint :",{"$nulls":3},{"$f":"SUM(M13:M23)","v":{"v":0,"d":"0.00"}},null,null,"Hybrid car","Small",{"$f":"IF(J17=\"Small\",L17,\"0\")","v":"0"},{"$f":"+'GHG conversion factor'!D84:D86","v":{"v":0.11274,"d":"0.113"}},{"v":0,"d":"0.00"}]
[{"$nulls":15},"Hybrid car","Medium",{"$f":"IF(J17=\"Medium\",L17,\"0\")","v":"0"},{"v":0.1149,"d":"0.115"},{"v":0,"d":"0.00"}]
[{"$nulls":15},"Hybrid car","Large",{"$f":"IF(J17=\"Large\",L17,\"0\")","v":"0"},{"v":0.15486,"d":"0.155"},{"v":0,"d":"0.00"}]
[{"$nulls":15},"Plug-in hybrid","Small",{"$f":"IF(J18=\"Small\",L18,\"0\")","v":"0"},{"$f":"+'GHG conversion factor'!D87:D89","v":{"v":0.06078,"d":"0.061"}},{"v":0,"d":"0.00"}]
[{"$nulls":18},{"v":0.09312,"d":"0.093"}]
[{"$nulls":15},"Plug-in hybrid","Medium",{"$f":"IF(J18=\"Medium\",L18,\"0\")","v":"0"},{"v":0.11923,"d":"0.119"},{"v":0,"d":"0.00"}]
[{"$nulls":15},"Plug-in hybrid","Large",{"$f":"IF(J18=\"Large\",L18,\"0\")","v":"0"},null,{"v":0,"d":"0.00"}]
[{"$nulls":15},"Battery EV","Small",{"$f":"IF(J19=\"Small\",L19,\"0\")","v":"0"},{"$f":"+'GHG conversion factor'!D90:D92","v":{"v":0.04284,"d":"0.043"}},{"v":0,"d":"0.00"}]
[{"$nulls":15},"Battery EV","Medium",{"$f":"IF(J19=\"Medium\",L19,\"0\")","v":"0"},{"v":0.04625,"d":"0.046"},{"v":0,"d":"0.00"}]
[{"$nulls":15},"Battery EV","Large",{"$f":"IF(J19=\"Large\",L19,\"0\")","v":"0"},{"v":0.04925,"d":"0.049"},{"v":0,"d":"0.00"}]
[{"$nulls":15},"Motorbike","Small",{"$f":"IF(J20=\"Small\",L20,\"0\")","v":"0"},{"$f":"+'GHG conversion factor'!D93:D95","v":{"v":0.08319,"d":"0.083"}},{"v":0,"d":"0.00"}]
[{"$nulls":15},"Motorbike","Medium",{"$f":"IF(J20=\"Medium\",L20,\"0\")","v":"0"},{"v":0.10107,"d":"0.101"},{"v":0,"d":"0.00"}]
[{"$nulls":15},"Motorbike","Large",{"$f":"IF(J20=\"Large\",L20,\"0\")","v":"0"},{"v":0.13252,"d":"0.133"},{"v":0,"d":"0.00"}]
[{"$nulls":15},"Taxi","Regular taxi",{"$f":"IF(J21=\"Regular taxi\",L21,\"0\")","v":"0"},{"$f":"+'GHG conversion factor'!D96:D97","v":{"v":0.20805,"d":"0.208"}},{"v":0,"d":"0.00"}]
[{"$nulls":15},"Taxi","Black Cab",{"$f":"IF(J21=\"Black cab\",L21,\"0\")","v":"0"},{"v":0.30603,"d":"0.306"},{"v":0,"d":"0.00"}]
[{"$nulls":15},"Bus","Local-NOT London bus",{"$f":"IF(J22=\"Local-NOT London bus\",L22,\"0\")","v":"0"},{"$f":"+'GHG conversion factor'!D98:D100","v":{"v":0.12999,"d":"0.130"}},{"v":0,"d":"0.00"}]
[{"$nulls":15},"Bus","Local London bus",{"$f":"IF(J22=\"Local London bus\",L22,\"0\")","v":"0"},{"v":0.07447,"d":"0.074"},{"v":0,"d":"0.00"}]
[{"$nulls":15},"Bus","Coach",{"$f":"IF(J22=\"Coach\",L22,\"0\")","v":"0"},{"v":0.02717,"d":"0.027"},{"v":0,"d":"0.00"}]
[{"$nulls":15},"Rail","National",{"$f":"IF(J23=\"National\",L23,\"0\")","v":"0"},{"$f":"+'GHG conversion factor'!D101:D104","v":{"v":0.03546,"d":"0.035"}},{"v":0,"d":"0.00"}]
[{"$nulls":15},"Rail","International",{"$f":"IF(J23=\"International\",L23,\"0\")","v":"0"},{"v":0.00446,"d":"0.004"},{"v":0,"d":"0.00"}]
[{"$nulls":15},"Rail","Light & Tram",{"$f":"IF(J23=\"Light & Tram\",L23,\"0\")","v":"0"},{"v":0.0286,"d":"0.029"},{"v":0,"d":"0.00"}]
[{"$nulls":15},"Rail","London Underground",{"$f":"IF(J23=\"London Underground\",L23,\"0\")","v":"0"},{"v":0.0278,"d":"0.028"},{"v":0,"d":"0.00"}]

{"sheet":"WSA-CC-Freight","index":6,"n_rows":24,"n_cols":15,"rows_kept":24,"merged":[[1,2,1,7],[3,1,3,3],[4,1,4,3],[5,1,5,3],[9,2,9,12],[12,3,13,7],[14,3,15,6],[17,2,26,7],[23,8,23,11]]}
[]
[null,"  ","Winchester School of Art",{"$nulls":5},{"$f":"+'WSA-CC-Energy'!I2","v":"Carbon Calculator-2024"}]
[]
[null,"Module:",{"$nulls":3},{"$f":"+'WSA-CC-Energy'!F4","v":"Click here to type once to automatically fill the rest"},{"$nulls":4},"Date:",{"$f":"+'WSA-CC-Energy'!L4","v":"Click here to Type"}]
[]
[]
[]
[null,null,"Freight",{"$nulls":9},"Sheet: 6 of 8"]
[]
[null,null,"This carbon calculator measures the carbon footprint produced from the shipment of goods over land, air, and sea. The assessment of carbon footprints will vary depending on the various modes of transportation, the cargo weight, and the distance.  "]
[]
[null,null,"Instructions:",{"$nulls":5},"Modes of transportation","Number of trip","Weight (kg)","Distance\n(km)","Carbon footprint (kgCO2e)",null," "]
[null,null,"1.","Choose the relevant modes of transportation.",{"$nulls":4},"Land-average diesel van",{"$nulls":3},{"$f":"+'Carbon Calculator-All'!K152:K162","v":{"v":0,"d":"0.00"}}]
[{"$nulls":8},"Land-average petrol van",{"$nulls":3},{"v":0,"d":"0.00"}]
[null,null,"2.","Provide the number of trip, cargo weight, and distance.",{"$nulls":4},"Land-average plug-in hybrid e.van",{"$nulls":3},{"v":0,"d":"0.00"}]
[{"$nulls":8},"Land-average electric van",{"$nulls":3},{"v":0,"d":"0.00"}]
[null,null,"Notes:",{"$nulls":5},"Land-train",{"$nulls":3},{"v":0,"d":"0.00"}]
[null,null,"Domestic flights are between UK airports.\nShort-haul International flights to/from the UK, typically to Europe (up to 3,700 km distance).\nLong-haul international flights to/from the UK, typically to non-European destinations (over 3,700 km distance).\nInternational flights to/from non-UK countries.",{"$nulls":5},"Air-Domestic, to/from UK",{"$nulls":3},{"v":0,"d":"0.00"}]
[{"$nulls":8},"Air-Short-haul, to/from UK",{"$nulls":3},{"v":0,"d":"0.00"}]
[{"$nulls":8},"Air-Long-haul, to/from UK",{"$nulls":3},{"v":0,"d":"0.00"}]
[{"$nulls":8},"Air-International, to/from non-UK",{"$nulls":3},{"v":0,"d":"0.00"}]
[{"$nulls":8},"Sea-General cargo-Average",{"$nulls":3},{"v":0,"d":"0.00"}]
[{"$nulls":8},"Sea-Container ship-Average",{"$nulls":3},{"v":0,"d":"0.00"}]
[{"$nulls":8},"Total carbon footprint :",{"$nulls":3},{"$f":"+'Carbon Calculator-All'!K163","v":{"v":0,"d":"0.00"}}]

{"sheet":"WSA-CC-Accommodation","index":7,"n_rows":51,"n_cols":19,"rows_kept":51,"merged":[[1,2,1,7],[3,1,3,3],[4,1,4,3],[5,1,5,3],[9,2,9,12],[12,2,13,2],[12,3,13,6],[14,2,15,2],[14,3,15,6],[16,2,18,2],[16,3,18,6],[20,2,23,6],[21,8,21,11]]}
[]
[null,"  ","Winchester School of Art",{"$nulls":5},{"$f":"+'WSA-CC-Energy'!I2","v":"Carbon Calculator-2024"}]
[]
[null,"Module:",{"$nulls":3},{"$f":"+'WSA-CC-Energy'!F4","v":"Click here to type once to automatically fill the rest"},{"$nulls":4},"Date:",{"$f":"+'WSA-CC-Energy'!L4","v":"Click here to Type"}]
[]
[]
[]
[null,null,"Accommodation",{"$nulls":9},"Sheet: 7 of 8"]
[]
[null,null,"This carbon calculator measures the carbon footprint produced from the hotel stays that occurs as part of the learning and making processes, for example, going on exhibition. The assessment of carbon footprints will vary depending on the place of stay."]
[]
[null,null,"Instructions:",{"$nulls":5},"Hotel name","Area/ Country","Number of rooms","Length of stays (nights)","Carbon footprint (kgCO2e)",null," "]
[null,null,"1.","Type in the hotel or accomodation's name.",{"$nulls":8},{"$f":"K13*L13*S13","v":{"v":0,"d":"0.00"}},null,null,"UK (London)",11.5,null,{"$f":"IF(J13=P13,Q13,IF(J13=P14,Q14,IF(J13=P15,Q15,IF(J13=P16,Q16,IF(J13=P17,Q17,IF(J13=P18,Q18,IF(J13=P19,Q19,IF(J13=P20,Q20,IF(J13=P21,Q21,IF(J13=P22,Q22,IF(J13=P23,Q23,IF(J13=P24,Q24,IF(J13=P25,Q25,IF(J13=P26,Q26,IF(J13=P27,Q27,IF(J13=P28,Q28,IF(J13=P29,Q29,IF(J13=P30,Q30,IF(J13=P31,Q31,IF(J13=P32,Q32,IF(J13=P33,Q33,IF(J13=P34,Q34,IF(J13=P35,Q35,IF(J13=P36,Q36,IF(J13=P37,Q37,IF(J13=P38,Q38,IF(J13=P39,Q39,IF(J13=P40,Q40,IF(J13=P41,Q41,IF(J13=P42,Q42,IF(J13=P43,Q43,IF(J13=P44,Q44,IF(J13=P45,Q45,IF(J13=P46,Q46,IF(J13=P47,Q47,IF(J13=P48,Q48,IF(J13=P49,Q49,IF(J13=P50,Q50,IF(J13=P51,Q51,\"0\")))))))))))))))))))))))))))))))))))))))","v":"0"}]
[{"$nulls":12},{"$f":"K14*L14*S14","v":{"v":0,"d":"0.00"}},null,null,"UK (Other)",10.4,null,{"$f":"IF(J14=P13,Q13,IF(J14=P14,Q14,IF(J14=P15,Q15,IF(J14=P16,Q16,IF(J14=P17,Q17,IF(J14=P18,Q18,IF(J14=P19,Q19,IF(J14=P20,Q20,IF(J14=P21,Q21,IF(J14=P22,Q22,IF(J14=P23,Q23,IF(J14=P24,Q24,IF(J14=P25,Q25,IF(J14=P26,Q26,IF(J14=P27,Q27,IF(J14=P28,Q28,IF(J14=P29,Q29,IF(J14=P30,Q30,IF(J14=P31,Q31,IF(J14=P32,Q32,IF(J14=P33,Q33,IF(J14=P34,Q34,IF(J14=P35,Q35,IF(J14=P36,Q36,IF(J14=P37,Q37,IF(J14=P38,Q38,IF(J14=P39,Q39,IF(J14=P40,Q40,IF(J14=P41,Q41,IF(J14=P42,Q42,IF(J14=P43,Q43,IF(J14=P44,Q44,IF(J14=P45,Q45,IF(J14=P46,Q46,IF(J14=P47,Q47,IF(J14=P48,Q48,IF(J14=P49,Q49,IF(J14=P50,Q50,IF(J14=P51,Q51,\"0\")))))))))))))))))))))))))))))))))))))))","v":"0"}]
[null,null,"2.","Choose the location or country.",{"$nulls":8},{"v":0,"d":"0.00"},null,null,"Australia",35,null,{"$f":"IF(J15=P13,Q13,IF(J15=P14,Q14,IF(J15=P15,Q15,IF(J15=P16,Q16,IF(J15=P17,Q17,IF(J15=P18,Q18,IF(J15=P19,Q19,IF(J15=P20,Q20,IF(J15=P21,Q21,IF(J15=P22,Q22,IF(J15=P23,Q23,IF(J15=P24,Q24,IF(J15=P25,Q25,IF(J15=P26,Q26,IF(J15=P27,Q27,IF(J15=P28,Q28,IF(J15=P29,Q29,IF(J15=P30,Q30,IF(J15=P31,Q31,IF(J15=P32,Q32,IF(J15=P33,Q33,IF(J15=P34,Q34,IF(J15=P35,Q35,IF(J15=P36,Q36,IF(J15=P37,Q37,IF(J15=P38,Q38,IF(J15=P39,Q39,IF(J15=P40,Q40,IF(J15=P41,Q41,IF(J15=P42,Q42,IF(J15=P43,Q43,IF(J15=P44,Q44,IF(J15=P45,Q45,IF(J15=P46,Q46,IF(J15=P47,Q47,IF(J15=P48,Q48,IF(J15=P49,Q49,IF(J15=P50,Q50,IF(J15=P51,Q51,\"0\")))))))))))))))))))))))))))))))))))))))","v":"0"}]
[{"$nulls":12},{"v":0,"d":"0.00"},null,null,"Belgium",12.2,null,{"$f":"IF(J16=P13,Q13,IF(J16=P14,Q14,IF(J16=P15,Q15,IF(J16=P16,Q16,IF(J16=P17,Q17,IF(J16=P18,Q18,IF(J16=P19,Q19,IF(J16=P20,Q20,IF(J16=P21,Q21,IF(J16=P22,Q22,IF(J16=P23,Q23,IF(J16=P24,Q24,IF(J16=P25,Q25,IF(J16=P26,Q26,IF(J16=P27,Q27,IF(J16=P28,Q28,IF(J16=P29,Q29,IF(J16=P30,Q30,IF(J16=P31,Q31,IF(J16=P32,Q32,IF(J16=P33,Q33,IF(J16=P34,Q34,IF(J16=P35,Q35,IF(J16=P36,Q36,IF(J16=P37,Q37,IF(J16=P38,Q38,IF(J16=P39,Q39,IF(J16=P40,Q40,IF(J16=P41,Q41,IF(J16=P42,Q42,IF(J16=P43,Q43,IF(J16=P44,Q44,IF(J16=P45,Q45,IF(J16=P46,Q46,IF(J16=P47,Q47,IF(J16=P48,Q48,IF(J16=P49,Q49,IF(J16=P50,Q50,IF(J16=P51,Q51,\"0\")))))))))))))))))))))))))))))))))))))))","v":"0"}]
[null,null,"3.","Provide the number of rooms and the length of stays.",{"$nulls":8},{"v":0,"d":"0.00"},null,null,"Brazil",8.7,null,{"$f":"IF(J17=P13,Q13,IF(J17=P14,Q14,IF(J17=P15,Q15,IF(J17=P16,Q16,IF(J17=P17,Q17,IF(J17=P18,Q18,IF(J17=P19,Q19,IF(J17=P20,Q20,IF(J17=P21,Q21,IF(J17=P22,Q22,IF(J17=P23,Q23,IF(J17=P24,Q24,IF(J17=P25,Q25,IF(J17=P26,Q26,IF(J17=P27,Q27,IF(J17=P28,Q28,IF(J17=P29,Q29,IF(J17=P30,Q30,IF(J17=P31,Q31,IF(J17=P32,Q32,IF(J17=P33,Q33,IF(J17=P34,Q34,IF(J17=P35,Q35,IF(J17=P36,Q36,IF(J17=P37,Q37,IF(J17=P38,Q38,IF(J17=P39,Q39,IF(J17=P40,Q40,IF(J17=P41,Q41,IF(J17=P42,Q42,IF(J17=P43,Q43,IF(J17=P44,Q44,IF(J17=P45,Q45,IF(J17=P46,Q46,IF(J17=P47,Q47,IF(J17=P48,Q48,IF(J17=P49,Q49,IF(J17=P50,Q50,IF(J17=P51,Q51,\"0\")))))))))))))))))))))))))))))))))))))))","v":"0"}]
[{"$nulls":12},{"v":0,"d":"0.00"},null,null,"Canada",7.4,null,{"$f":"IF(J18=P13,Q13,IF(J18=P14,Q14,IF(J18=P15,Q15,IF(J18=P16,Q16,IF(J18=P17,Q17,IF(J18=P18,Q18,IF(J18=P19,Q19,IF(J18=P20,Q20,IF(J18=P21,Q21,IF(J18=P22,Q22,IF(J18=P23,Q23,IF(J18=P24,Q24,IF(J18=P25,Q25,IF(J18=P26,Q26,IF(J18=P27,Q27,IF(J18=P28,Q28,IF(J18=P29,Q29,IF(J18=P30,Q30,IF(J18=P31,Q31,IF(J18=P32,Q32,IF(J18=P33,Q33,IF(J18=P34,Q34,IF(J18=P35,Q35,IF(J18=P36,Q36,IF(J18=P37,Q37,IF(J18=P38,Q38,IF(J18=P39,Q39,IF(J18=P40,Q40,IF(J18=P41,Q41,IF(J18=P42,Q42,IF(J18=P43,Q43,IF(J18=P44,Q44,IF(J18=P45,Q45,IF(J18=P46,Q46,IF(J18=P47,Q47,IF(J18=P48,Q48,IF(J18=P49,Q49,IF(J18=P50,Q50,IF(J18=P51,Q51,\"0\")))))))))))))))))))))))))))))))))))))))","v":"0"}]
[{"$nulls":12},{"v":0,"d":"0.00"},null,null,"Chile",27.6,null,{"$f":"IF(J19=P13,Q13,IF(J19=P14,Q14,IF(J19=P15,Q15,IF(J19=P16,Q16,IF(J19=P17,Q17,IF(J19=P18,Q18,IF(J19=P19,Q19,IF(J19=P20,Q20,IF(J19=P21,Q21,IF(J19=P22,Q22,IF(J19=P23,Q23,IF(J19=P24,Q24,IF(J19=P25,Q25,IF(J19=P26,Q26,IF(J19=P27,Q27,IF(J19=P28,Q28,IF(J19=P29,Q29,IF(J19=P30,Q30,IF(J19=P31,Q31,IF(J19=P32,Q32,IF(J19=P33,Q33,IF(J19=P34,Q34,IF(J19=P35,Q35,IF(J19=P36,Q36,IF(J19=P37,Q37,IF(J19=P38,Q38,IF(J19=P39,Q39,IF(J19=P40,Q40,IF(J19=P41,Q41,IF(J19=P42,Q42,IF(J19=P43,Q43,IF(J19=P44,Q44,IF(J19=P45,Q45,IF(J19=P46,Q46,IF(J19=P47,Q47,IF(J19=P48,Q48,IF(J19=P49,Q49,IF(J19=P50,Q50,IF(J19=P51,Q51,\"0\")))))))))))))))))))))))))))))))))))))))","v":"0"}]
[null,null,"Notes:",{"$nulls":9},{"v":0,"d":"0.00"},null,null,"China",53.5,null,{"$f":"IF(J20=P13,Q13,IF(J20=P14,Q14,IF(J20=P15,Q15,IF(J20=P16,Q16,IF(J20=P17,Q17,IF(J20=P18,Q18,IF(J20=P19,Q19,IF(J20=P20,Q20,IF(J20=P21,Q21,IF(J20=P22,Q22,IF(J20=P23,Q23,IF(J20=P24,Q24,IF(J20=P25,Q25,IF(J20=P26,Q26,IF(J20=P27,Q27,IF(J20=P28,Q28,IF(J20=P29,Q29,IF(J20=P30,Q30,IF(J20=P31,Q31,IF(J20=P32,Q32,IF(J20=P33,Q33,IF(J20=P34,Q34,IF(J20=P35,Q35,IF(J20=P36,Q36,IF(J20=P37,Q37,IF(J20=P38,Q38,IF(J20=P39,Q39,IF(J20=P40,Q40,IF(J20=P41,Q41,IF(J20=P42,Q42,IF(J20=P43,Q43,IF(J20=P44,Q44,IF(J20=P45,Q45,IF(J20=P46,Q46,IF(J20=P47,Q47,IF(J20=P48,Q48,IF(J20=P49,Q49,IF(J20=P50,Q50,IF(J20=P51,Q51,\"0\")))))))))))))))))))))))))))))))))))))))","v":"0"}]
[null,null,"You can list up to 10 hotels in various places.\nTo choose from the drop-down list, use the \"Up\" or \"down\" keys.",{"$nulls":9},{"v":0,"d":"0.00"},null,null,"Colombia",14.7,null,{"$f":"IF(J21=P13,Q13,IF(J21=P14,Q14,IF(J21=P15,Q15,IF(J21=P16,Q16,IF(J21=P17,Q17,IF(J21=P18,Q18,IF(J21=P19,Q19,IF(J21=P20,Q20,IF(J21=P21,Q21,IF(J21=P22,Q22,IF(J21=P23,Q23,IF(J21=P24,Q24,IF(J21=P25,Q25,IF(J21=P26,Q26,IF(J21=P27,Q27,IF(J21=P28,Q28,IF(J21=P29,Q29,IF(J21=P30,Q30,IF(J21=P31,Q31,IF(J21=P32,Q32,IF(J21=P33,Q33,IF(J21=P34,Q34,IF(J21=P35,Q35,IF(J21=P36,Q36,IF(J21=P37,Q37,IF(J21=P38,Q38,IF(J21=P39,Q39,IF(J21=P40,Q40,IF(J21=P41,Q41,IF(J21=P42,Q42,IF(J21=P43,Q43,IF(J21=P44,Q44,IF(J21=P45,Q45,IF(J21=P46,Q46,IF(J21=P47,Q47,IF(J21=P48,Q48,IF(J21=P49,Q49,IF(J21=P50,Q50,IF(J21=P51,Q51,\"0\")))))))))))))))))))))))))))))))))))))))","v":"0"}]
[{"$nulls":8},"Total carbon footprint :",{"$nulls":3},{"$f":"SUM(M13:M21)","v":{"v":0,"d":"0.00"}},null,null,"Costa Rica",4.7]
[{"$nulls":15},"Egypt",44.2]
[{"$nulls":15},"France",6.7]
[{"$nulls":15},"Germany",13.2]
[{"$nulls":15},"Hong Kong, China",51.5]
[{"$nulls":15},"India",58.9]
[{"$nulls":15},"Indonesia",62.7]
[{"$nulls":15},"Italy",14.3]
[{"$nulls":15},"Japan",39]
[{"$nulls":15},"Jordan",68.9]
[{"$nulls":15},"Korea",55.8]
[{"$nulls":15},"Malaysia",61.5]
[{"$nulls":15},"Maldives",152.2]
[{"$nulls":15},"Mexico",19.3]
[{"$nulls":15},"Netherlands",14.8]
[{"$nulls":15},"Oman",90.3]
[{"$nulls":15},"Philippines",54.3]
[{"$nulls":15},"Portugal",19]
[{"$nulls":15},"Qatar",86.2]
[{"$nulls":15},"Russian Federation",24.2]
[{"$nulls":15},"Saudi Arabia",106.4]
[{"$nulls":15},"Singapore",24.5]
[{"$nulls":15},"South Africa",51.4]
[{"$nulls":15},"Spain",7]
[{"$nulls":15},"Switzerland",6.6]
[{"$nulls":15},"Thailand",43.4]
[{"$nulls":15},"Turkey",32.1]
[{"$nulls":15},"United Arab Emirates",63.8]
[{"$nulls":15},"United States",16.1]
[{"$nulls":15},"Vietnam",38.5]

{"sheet":"WSA-CC-Summary","index":8,"n_rows":20,"n_cols":15,"rows_kept":20,"merged":[[1,2,1,7],[3,1,3,3],[4,1,4,3],[5,1,5,3],[9,2,9,12],[11,8,11,11],[19,8,19,11]]}
[]
[null,"  ","Winchester School of Art",{"$nulls":5},{"$f":"+'WSA-CC-Energy'!I2","v":"Carbon Calculator-2024"}]
[]
[null,"Module:",{"$nulls":3},{"$f":"+'WSA-CC-Energy'!F4","v":"Click here to type once to automatically fill the rest"},{"$nulls":4},"Date:",{"$f":"+'WSA-CC-Energy'!L4","v":"Click here to Type"}]
[]
[]
[]
[null,null,"Summary",{"$nulls":9},"Sheet: 8 of 8"]
[]
[null,null,"The summary sheet gathers all carbon footprint data from previous carbon calculator."]
[]
[{"$nulls":8},"Category",{"$nulls":3},"Carbon footprint (kgCO2e)",null," "]
[{"$nulls":8},"Energy",{"$nulls":3},{"$f":"+'WSA-CC-Energy'!M23","v":{"v":0,"d":"0.00"}}]
[{"$nulls":8},"Water",{"$nulls":3},{"$f":"+'WSA-CC-Water'!M23","v":{"v":0,"d":"0.00"}}]
[{"$nulls":8},"Material",{"$nulls":3},{"$f":"+'WSA-CC-Material'!M34","v":{"v":0,"d":"0.00"}}]
[{"$nulls":8},"Waste",{"$nulls":3},{"$f":"+'WSA-CC-Waste'!M27","v":{"v":0,"d":"0.00"}}]
[{"$nulls":8},"Travel",{"$nulls":3},{"$f":"+'WSA-CC-Travel'!M24","v":{"v":0,"d":"0.00"}}]
[{"$nulls":8},"Freight",{"$nulls":3},{"$f":"+'WSA-CC-Freight'!M24","v":{"v":0,"d":"0.00"}}]
[{"$nulls":8},"Accommodation",{"$nulls":3},{"$f":"+'WSA-CC-Accommodation'!M22","v":{"v":0,"d":"0.00"}}]
[{"$nulls":8},"Total carbon footprint :",{"$nulls":3},{"$f":"SUM(M13:M19)","v":{"v":0,"d":"0.00"}}]

{"sheet":"Carbon Calculator-All","index":9,"n_rows":205,"n_cols":11,"rows_kept":205,"hidden":true,"merged":[[11,0,11,9],[25,0,25,9],[72,0,72,9],[111,0,111,9],[147,0,147,9],[162,0,162,9]]}
["Energy Consuming Activity","Category of Emissions","Type of emissions' source","Number of item or equipment used","Energy consumption for each device","Unit 1","Duration (hours)","Total usage","Unit 2","GHG Conversion (kgCO2e)","Carbon footprint (kgCO2e)"]
[{"$f":"+'WSA-CC-Energy'!I13:I22","v":0},"Energy","Grid Electricity",{"$f":"+'WSA-CC-Energy'!J13:J22","v":0},{"$f":"+'WSA-CC-Energy'!K13:K22","v":0},"Watt",{"$f":"+'WSA-CC-Energy'!L13:L22","v":0},{"$f":"(D2*E2*G2)/1000","v":{"v":0,"d":"0.00"}},"kWh",{"$f":"+'GHG conversion factor'!D2","v":{"v":0.20705,"d":"0.207"}},{"$f":"H2*J2","v":{"v":0,"d":"0.000"}}]
[0,"Energy","Grid Electricity",0,0,"Watt",0,{"$f":"(D3*E3*G3)/1000","v":{"v":0,"d":"0.00"}},"kWh",{"$f":"+'GHG conversion factor'!D2","v":{"v":0.20705,"d":"0.207"}},{"$f":"H3*J3","v":{"v":0,"d":"0.000"}}]
[0,"Energy","Grid Electricity",0,0,"Watt",0,{"v":0,"d":"0.00"},"kWh",{"$f":"+'GHG conversion factor'!D2","v":{"v":0.20705,"d":"0.207"}},{"v":0,"d":"0.000"}]
[0,"Energy","Grid Electricity",0,0,"Watt",0,{"v":0,"d":"0.00"},"kWh",{"$f":"+'GHG conversion factor'!D2","v":{"v":0.20705,"d":"0.207"}},{"v":0,"d":"0.000"}]
[0,"Energy","Grid Electricity",0,0,"Watt",0,{"v":0,"d":"0.00"},"kWh",{"$f":"+'GHG conversion factor'!D2","v":{"v":0.20705,"d":"0.207"}},{"v":0,"d":"0.000"}]
[0,"Energy","Grid Electricity",0,0,"Watt",0,{"v":0,"d":"0.00"},"kWh",{"$f":"+'GHG conversion factor'!D2","v":{"v":0.20705,"d":"0.207"}},{"v":0,"d":"0.000"}]
[0,"Energy","Grid Electricity",0,0,"Watt",0,{"v":0,"d":"0.00"},"kWh",{"$f":"+'GHG conversion factor'!D2","v":{"v":0.20705,"d":"0.207"}},{"v":0,"d":"0.000"}]
[0,"Energy","Grid Electricity",0,0,"Watt",0,{"v":0,"d":"0.00"},"kWh",{"$f":"+'GHG conversion factor'!D2","v":{"v":0.20705,"d":"0.207"}},{"v":0,"d":"0.000"}]
[0,"Energy","Grid Electricity",0,0,"Watt",0,{"v":0,"d":"0.00"},"kWh",{"$f":"+'GHG conversion factor'!D2","v":{"v":0.20705,"d":"0.207"}},{"v":0,"d":"0.000"}]
[0,"Energy","Grid Electricity",0,0,"Watt",0,{"v":0,"d":"0.00"},"kWh",{"$f":"+'GHG conversion factor'!D2","v":{"v":0.20705,"d":"0.207"}},{"v":0,"d":"0.000"}]
["Total carbon footprint from energy used:",{"$nulls":9},{"$f":"SUM(K2:K11)","v":{"v":0,"d":"0.00"}}]
[]
[]
["Water Consuming Activity","Category of Emissions","Type of emissions' source",null,"Quantity","Unit 1",null,"Total usage","Unit 2","GHG Conversion (kgCO2e)","Carbon footprint (kgCO2e)"]
[{"$f":"+'WSA-CC-Water'!I13","v":0},"Water","Water Supply",null,{"$f":"+'WSA-CC-Water'!L13","v":0},"Litre",null,{"$f":"E16/1000","v":{"v":0,"d":"0.00"}},"m3",{"$f":"+'GHG conversion factor'!D3","v":{"v":0.15311,"d":"0.153"}},{"$f":"H16*J16","v":{"v":0,"d":"0.00"}}]
[{"$f":"+'WSA-CC-Water'!I14","v":0},"Water","Water Supply",null,{"$f":"+'WSA-CC-Water'!L14","v":0},"Litre",null,{"v":0,"d":"0.00"},"m3",{"$f":"+'GHG conversion factor'!D3","v":{"v":0.15311,"d":"0.153"}},{"$f":"H17*J17","v":{"v":0,"d":"0.00"}}]
[{"$f":"+'WSA-CC-Water'!I15","v":0},"Water","Water Supply",null,{"$f":"+'WSA-CC-Water'!L15","v":0},"Litre",null,{"v":0,"d":"0.00"},"m3",{"$f":"+'GHG conversion factor'!D3","v":{"v":0.15311,"d":"0.153"}},{"v":0,"d":"0.00"}]
[{"$f":"+'WSA-CC-Water'!I16","v":0},"Water","Water Supply",null,{"$f":"+'WSA-CC-Water'!L16","v":0},"Litre",null,{"v":0,"d":"0.00"},"m3",{"$f":"+'GHG conversion factor'!D3","v":{"v":0.15311,"d":"0.153"}},{"v":0,"d":"0.00"}]
[{"$f":"+'WSA-CC-Water'!I17","v":0},"Water","Water Supply",null,{"$f":"+'WSA-CC-Water'!L17","v":0},"Litre",null,{"v":0,"d":"0.00"},"m3",{"$f":"+'GHG conversion factor'!D3","v":{"v":0.15311,"d":"0.153"}},{"v":0,"d":"0.00"}]
[{"$f":"+'WSA-CC-Water'!I18","v":0},"Water","Water Supply",null,{"$f":"+'WSA-CC-Water'!L18","v":0},"Litre",null,{"v":0,"d":"0.00"},"m3",{"$f":"+'GHG conversion factor'!D3","v":{"v":0.15311,"d":"0.153"}},{"v":0,"d":"0.00"}]
[{"$f":"+'WSA-CC-Water'!I19","v":0},"Water","Water Supply",null,{"$f":"+'WSA-CC-Water'!L19","v":0},"Litre",null,{"v":0,"d":"0.00"},"m3",{"$f":"+'GHG conversion factor'!D3","v":{"v":0.15311,"d":"0.153"}},{"v":0,"d":"0.00"}]
[{"$f":"+'WSA-CC-Water'!I20","v":0},"Water","Water Supply",null,{"$f":"+'WSA-CC-Water'!L20","v":0},"Litre",null,{"v":0,"d":"0.00"},"m3",{"$f":"+'GHG conversion factor'!D3","v":{"v":0.15311,"d":"0.153"}},{"v":0,"d":"0.00"}]
[{"$f":"+'WSA-CC-Water'!I21","v":0},"Water","Water Supply",null,{"$f":"+'WSA-CC-Water'!L21","v":0},"Litre",null,{"v":0,"d":"0.00"},"m3",{"$f":"+'GHG conversion factor'!D3","v":{"v":0.15311,"d":"0.153"}},{"v":0,"d":"0.00"}]
[{"$f":"+'WSA-CC-Water'!I22","v":0},"Water","Water Supply",null,{"$f":"+'WSA-CC-Water'!L22","v":0},"Litre",null,{"v":0,"d":"0.00"},"m3",{"$f":"+'GHG conversion factor'!D3","v":{"v":0.15311,"d":"0.153"}},{"v":0,"d":"0.00"}]
["Total carbon footprint from energy used:",{"$nulls":9},{"$f":"SUM(K16:K25)","v":{"v":0,"d":"0.00"}}]
[]
[]
["Material Consuming Activity","Category of Emissions","Type of emissions","Number of item or equipment used","Quantity","Unit 1",null,"Total usage","Unit 2","GHG Conversion (kgCO2e)","Carbon footprint (kgCO2e)"]
[null,"Material","Metals from Primary material production",null,{"$f":"+'WSA-CC-Material'!R13","v":"0"},"Kg",null,{"$f":"E30/1000","v":{"v":0,"d":"0.00"}},"Tonnes",{"$f":"+'GHG conversion factor'!D6:D28","v":{"v":3815.78473,"d":"3,815.785"}},{"$f":"J30*H30","v":{"v":0,"d":"0.00"}}]
[null,"Material","Metals from Closed-loop source",null,{"$f":"+'WSA-CC-Material'!R14","v":"0"},"Kg",null,{"$f":"E31/1000","v":{"v":0,"d":"0.00"}},"Tonnes",{"v":1630.78661,"d":"1,630.787"},{"$f":"J31*H31","v":{"v":0,"d":"0.00"}}]
[null,"Material","Aluminium cans and foil (excl. forming) from primary material production",null,{"$f":"+'WSA-CC-Material'!R15","v":"0"},"Kg",null,{"v":0,"d":"0.00"},"Tonnes",{"v":9106.91851,"d":"9,106.919"},{"$f":"J32*H32","v":{"v":0,"d":"0.00"}}]
[null,"Material","Aluminium cans and foil (excl. forming) from Closed-loop source",null,{"$f":"+'WSA-CC-Material'!R16","v":"0"},"Kg",null,{"v":0,"d":"0.00"},"Tonnes",{"v":990.4781,"d":"990.478"},{"v":0,"d":"0.00"}]
[null,"Material","Scrap metal from primary material production",null,{"$f":"+'WSA-CC-Material'!R17","v":"0"},"Kg",null,{"v":0,"d":"0.00"},"Tonnes",{"v":3464.56448,"d":"3,464.564"},{"v":0,"d":"0.00"}]
[null,"Material","Scrap metal from from Closed-loop source",null,{"$f":"+'WSA-CC-Material'!R18","v":"0"},"Kg",null,{"v":0,"d":"0.00"},"Tonnes",{"v":1620.27606,"d":"1,620.276"},{"v":0,"d":"0.00"}]
[null,"Material","Soil",null,{"$f":"+'WSA-CC-Material'!L15","v":0},"Kg",null,{"v":0,"d":"0.00"},"Tonnes",{"v":0.98485,"d":"0.985"},{"v":0,"d":"0.00"}]
[null,"Material","Plasterboard: Primary material production",null,{"$f":"+'WSA-CC-Material'!R19:R20","v":"0"},"Kg",null,{"v":0,"d":"0.00"},"Tonnes",{"v":120.05,"d":"120.050"},{"v":0,"d":"0.00"}]
[null,"Material","Plasterboard: Closed-loop source",null,"0","Kg",null,{"v":0,"d":"0.00"},"Tonnes",{"v":32.17,"d":"32.170"},{"v":0,"d":"0.00"}]
[null,"Material","Rubber/ Tyres: Primary material production",null,{"$f":"+'WSA-CC-Material'!R21:R22","v":"0"},"Kg",null,{"v":0,"d":"0.00"},"Tonnes",{"v":3335.5719,"d":"3,335.572"},{"v":0,"d":"0.00"}]
[null,"Material","Rubber/ Tyres: Re-used",null,"0","Kg",null,{"v":0,"d":"0.00"},"Tonnes",{"v":731.21789,"d":"731.218"},{"v":0,"d":"0.00"}]
[null,"Material","Wood from Primary material production",null,{"$f":"+'WSA-CC-Material'!R23","v":"0"},"Kg",null,{"v":0,"d":"0.00"},"Tonnes",{"v":269.50416,"d":"269.504"},{"v":0,"d":"0.00"}]
[null,"Material","Wood from Re-used",null,{"$f":"+'WSA-CC-Material'!R24","v":"0"},"Kg",null,{"v":0,"d":"0.00"},"Tonnes",{"v":38.54288,"d":"38.543"},{"v":0,"d":"0.00"}]
[null,"Material","Wood from Closed-loop source",null,{"$f":"+'WSA-CC-Material'!R25","v":"0"},"Kg",null,{"v":0,"d":"0.00"},"Tonnes",{"v":112.96968372342414,"d":"112.970"},{"v":0,"d":"0.00"}]
[null,"Material","Glass from Primary material production",null,{"$f":"+'WSA-CC-Material'!R26:R29","v":"0"},"Kg",null,{"v":0,"d":"0.00"},"Tonnes",{"v":1402.76667,"d":"1,402.767"},{"v":0,"d":"0.00"}]
[null,"Material","Glass from Closed-loop source",null,"0","Kg",null,{"v":0,"d":"0.00"},"Tonnes",{"v":823.18954,"d":"823.190"},{"v":0,"d":"0.00"}]
[null,"Material","Fabric/ Fabricing from Primary material production",null,0,"Kg",null,{"v":0,"d":"0.00"},"Tonnes",{"v":22310,"d":"22,310.000"},{"v":0,"d":"0.00"}]
[null,"Material","Fabric/ Fabricing from Re-used",null,0,"Kg",null,{"v":0,"d":"0.00"},"Tonnes",{"v":152.25,"d":"152.250"},{"v":0,"d":"0.00"}]
[null,"Material","Food and drink",null,{"$f":"+'WSA-CC-Material'!L22","v":0},"Kg",null,{"v":0,"d":"0.00"},"Tonnes",{"v":3701.40359,"d":"3,701.404"},{"v":0,"d":"0.00"}]
[null,"Material","Average plastics from Primary material production",null,{"$f":"+'WSA-CC-Material'!R30:R31","v":"0"},"Kg",null,{"v":0,"d":"0.00"},"Tonnes",{"v":3164.78049,"d":"3,164.780"},{"v":0,"d":"0.00"}]
[null,"Material","Average plastics from Closed-loop source",null,"0","Kg",null,{"v":0,"d":"0.00"},"Tonnes",{"v":1566.38638,"d":"1,566.386"},{"$f":"J50*H50","v":{"v":0,"d":"0.00"}}]
[null,"Material","Plastics film from Primary material production",null,{"$f":"+'WSA-CC-Material'!R32:R33","v":"0"},"Kg",null,{"v":0,"d":"0.00"},"Tonnes",{"v":2910.46529,"d":"2,910.465"},{"$f":"J51*H51","v":{"v":0,"d":"0.00"}}]
[null,"Material","Plastic film from Closed-loop source",null,"0","Kg",null,{"v":0,"d":"0.00"},"Tonnes",{"v":1094.58257,"d":"1,094.583"},{"$f":"H52*J52","v":{"v":0,"d":"0.00"}}]
[null,"Material","Plastics: average plastic rigid from Primary material production",null,null,"Kg",null,{"v":0,"d":"0.00"},"Tonnes",{"v":3263.9220153902234,"d":"3,263.922"},{"$f":"H53*J53","v":{"v":0,"d":"0.00"}}]
[null,"Material","Plastics: average plastic rigid from Closed-loop source",null,null,"Kg",null,{"v":0,"d":"0.00"},"Tonnes",{"v":2744.0924767186184,"d":"2,744.092"},{"v":0,"d":"0.00"}]
[null,"Material","Plastics: HDPE (incl. forming) from Primary material production",null,null,"Kg",null,{"v":0,"d":"0.00"},"Tonnes",{"v":3255.9298007219054,"d":"3,255.930"},{"v":0,"d":"0.00"}]
[null,"Material","Plastics: HDPE (incl. forming) from Closed-loop source",null,null,"Kg",null,{"v":0,"d":"0.00"},"Tonnes",{"v":2346.689068808902,"d":"2,346.689"},{"v":0,"d":"0.00"}]
[null,"Material","Plastics: LDPE and LLDPE (incl. forming) from Primary material production",null,null,"Kg",null,{"v":0,"d":"0.00"},"Tonnes",{"v":2586.727308510067,"d":"2,586.727"},{"v":0,"d":"0.00"}]
[null,"Material","Plastics: LDPE and LLDPE (incl. forming) from Closed-loop source",null,null,"Kg",null,{"v":0,"d":"0.00"},"Tonnes",{"v":1793.295405185525,"d":"1,793.295"},{"v":0,"d":"0.00"}]
[null,"Material","Plastics: PET (incl. forming) from Primary material production",null,null,"Kg",null,{"v":0,"d":"0.00"},"Tonnes",{"v":4018.4834060710423,"d":"4,018.483"},{"v":0,"d":"0.00"}]
[null,"Material","Plastics: PET (incl. forming) from Closed-loop source",null,null,"Kg",null,{"v":0,"d":"0.00"},"Tonnes",{"v":3121.344294397623,"d":"3,121.344"},{"v":0,"d":"0.00"}]
[null,"Material","Plastics: PP (incl. forming) from Primary material production",null,null,"Kg",null,{"v":0,"d":"0.00"},"Tonnes",{"v":3090.817900844562,"d":"3,090.818"},{"v":0,"d":"0.00"}]
[null,"Material","Plastics: PP (incl. forming) from Closed-loop source",null,null,"Kg",null,{"v":0,"d":"0.00"},"Tonnes",{"v":2537.38599752002,"d":"2,537.386"},{"v":0,"d":"0.00"}]
[null,"Material","Plastics: PS (incl. forming) from Primary material production",null,null,"Kg",null,{"v":0,"d":"0.00"},"Tonnes",{"v":3764.039808510067,"d":"3,764.040"},{"v":0,"d":"0.00"}]
[null,"Material","Plastics: PS (incl. forming) from Closed-loop source",null,null,"Kg",null,{"v":0,"d":"0.00"},"Tonnes",{"v":3187.0819919716205,"d":"3,187.082"},{"v":0,"d":"0.00"}]
[null,"Material","Plastics: PVC (incl. forming) from Primary material production",null,null,"Kg",null,{"v":0,"d":"0.00"},"Tonnes",{"v":3399.175069704097,"d":"3,399.175"},{"v":0,"d":"0.00"}]
[null,"Material","Plastics: PVC (incl. forming) from Closed-loop source",null,null,"Kg",null,{"v":0,"d":"0.00"},"Tonnes",{"v":2485.7431663795546,"d":"2,485.743"},{"v":0,"d":"0.00"}]
[null,"Material","Card Board from Primary material production",null,{"$f":"+'WSA-CC-Material'!R34:R35","v":"0"},"Kg",null,{"v":0,"d":"0.00"},"Tonnes",{"$f":"+'GHG conversion factor'!D29:D30","v":{"v":1193.96586,"d":"1,193.966"}},{"v":0,"d":"0.00"}]
[null,"Material","Card Board from Closed-loop source",null,"0","Kg",null,{"v":0,"d":"0.00"},"Tonnes",{"v":1092.35486,"d":"1,092.355"},{"v":0,"d":"0.00"}]
[null,"Material","Paper and board: mixed from Primary material production",null,null,"Kg",null,{"v":0,"d":"0.00"},"Tonnes",{"v":868.0699445145823,"d":"868.070"},{"v":0,"d":"0.00"}]
[null,"Material","Paper and board: mixed from Closed-loop source",null,null,"Kg",null,{"v":0,"d":"0.00"},"Tonnes",{"v":718.569373160418,"d":"718.569"},{"v":0,"d":"0.00"}]
[null,"Material","Paper from Primary material production",null,{"$f":"+'WSA-CC-Material'!R36:R38","v":{"$error":"#VALUE!"}},"Kg",null,{"$error":"#VALUE!"},"Tonnes",{"$f":"+'GHG conversion factor'!D31:D32","v":{"v":1339.31834,"d":"1,339.318"}},{"$error":"#VALUE!"}]
[null,"Material","Paper from Closed-loop source",null,null,"Kg",null,{"v":0,"d":"0.00"},"Tonnes",{"v":1044.31834,"d":"1,044.318"},{"v":0,"d":"0.00"}]
["Total carbon footprint from energy used:",{"$nulls":9},{"$f":"SUM(K30:K72)","v":{"$error":"#VALUE!"}}]
["The table above has not add the specific fabric"]
[]
["Activity","Category of Emissions","Type of emissions","Number of item or equipment used"," Quantity","Unit1",null,"Total usage","Unit2","GHG Conversion (kgCO2e)","Carbon footprint (kgCO2e)"]
[null,"Waste","Water - Treatment",null,{"$f":"+'WSA-CC-Waste'!L13","v":0},"Litre",null,{"v":0,"d":"0.00"},"m3",{"$f":"+'GHG conversion factor'!D35:D39","v":{"v":0.18574,"d":"0.186"}},{"$f":"J77*H77","v":{"v":0,"d":"0.00"}}]
[null,"Waste","Soils: Closed-loop",null,{"$f":"+'WSA-CC-Waste'!R13:R14","v":"0"},"Kg",null,{"v":0,"d":"0.00"},"Tonnes",{"v":0.98485,"d":"0.985"},{"v":0,"d":"0.00"}]
[null,"Waste","Soils: Landfill",null,"0","Kg",null,{"v":0,"d":"0.00"},"Tonnes",19.51726,{"v":0,"d":"0.00"}]
[null,"Waste","Plasterboard: Closed-loop",null,{"$f":"+'WSA-CC-Waste'!R15:R16","v":"0"},"Kg",null,{"v":0,"d":"0.00"},"Tonnes",{"v":6.41061,"d":"6.411"},{"v":0,"d":"0.00"}]
[null,"Waste","Plasterboard: Landfill",null,"0","Kg",null,{"v":0,"d":"0.00"},"Tonnes",{"v":71.95,"d":"71.950"},{"v":0,"d":"0.00"}]
[null,"Waste","Rubber/ Tyres: Closed-loop",null,{"$f":"+'WSA-CC-Waste'!L16","v":0},"Kg",null,{"v":0,"d":"0.00"},"Tonnes",{"$f":"+'GHG conversion factor'!D40","v":{"v":6.41061,"d":"6.411"}},{"v":0,"d":"0.00"}]
[null,"Waste","Wood: Closed-loop",null,{"$f":"+'WSA-CC-Waste'!R17:R20","v":"0"},"Kg",null,{"v":0,"d":"0.00"},"Tonnes",{"$f":"+'GHG conversion factor'!D41:D44","v":{"v":6.41061,"d":"6.411"}},{"v":0,"d":"0.00"}]
[null,"Waste","Wood: Combustion",null,"0","Kg",null,{"v":0,"d":"0.00"},"Tonnes",{"v":6.41061,"d":"6.411"},{"v":0,"d":"0.00"}]
[null,"Waste","Wood: Composting",null,"0","Kg",null,{"v":0,"d":"0.00"},"Tonnes",{"v":8.88386,"d":"8.884"},{"v":0,"d":"0.00"}]
[null,"Waste","Wood: Landfill",null,"0","Kg",null,{"v":0,"d":"0.00"},"Tonnes",{"v":925.24423,"d":"925.244"},{"v":0,"d":"0.00"}]
[null,"Waste","Books: Closed-loop",null,{"$f":"+'WSA-CC-Waste'!R21:R24","v":"0"},"Kg",null,{"v":0,"d":"0.00"},"Tonnes",{"$f":"+'GHG conversion factor'!D45:D48","v":{"v":6.41061,"d":"6.411"}},{"v":0,"d":"0.00"}]
[null,"Waste","Books: Combustion",null,"0","Kg",null,{"v":0,"d":"0.00"},"Tonnes",{"v":6.41061,"d":"6.411"},{"v":0,"d":"0.00"}]
[null,"Waste","Books: Composting",null,"0","Kg",null,{"v":0,"d":"0.00"},"Tonnes",{"v":8.88386,"d":"8.884"},{"v":0,"d":"0.00"}]
[null,"Waste","Books: Landfill",null,"0","Kg",null,{"v":0,"d":"0.00"},"Tonnes",{"v":1164.39015,"d":"1,164.390"},{"v":0,"d":"0.00"}]
[null,"Waste","Glass: Open-loop",null,{"$f":"+'WSA-CC-Waste'!R25:R28","v":"0"},"Kg",null,{"v":0,"d":"0.00"},"Tonnes",{"$f":"+'GHG conversion factor'!D49:D52","v":{"v":6.41061,"d":"6.411"}},{"v":0,"d":"0.00"}]
[null,"Waste","Glass: Closed-loop",null,"0","Kg",null,{"v":0,"d":"0.00"},"Tonnes",{"v":6.41061,"d":"6.411"},{"v":0,"d":"0.00"}]
[null,"Waste","Glass: Combustion",null,"0","Kg",null,{"v":0,"d":"0.00"},"Tonnes",{"v":6.41061,"d":"6.411"},{"v":0,"d":"0.00"}]
[null,"Waste","Glass: Landfill",null,"0","Kg",null,{"v":0,"d":"0.00"},"Tonnes",{"v":8.88386,"d":"8.884"},{"v":0,"d":"0.00"}]
[null,"Waste","Fabric/ Clothing: Closed-loop",null,{"$f":"+'WSA-CC-Waste'!R29:R31","v":"0"},"Kg",null,{"v":0,"d":"0.00"},"Tonnes",{"$f":"+'GHG conversion factor'!D53:D55","v":{"v":6.41061,"d":"6.411"}},{"v":0,"d":"0.00"}]
[null,"Waste","Fabric/ Clothing: Combustion",null,"0","Kg",null,{"v":0,"d":"0.00"},"Tonnes",{"v":6.41061,"d":"6.411"},{"v":0,"d":"0.00"}]
[null,"Waste","Fabric/ Clothing: Landfill",null,"0","Kg",null,{"v":0,"d":"0.00"},"Tonnes",{"v":496.68303,"d":"496.683"},{"v":0,"d":"0.00"}]
[null,"Waste","Household Refuse: Combustion",null,{"$f":"+'WSA-CC-Waste'!R32:R33","v":"0"},"Kg",null,{"v":0,"d":"0.00"},"Tonnes",{"$f":"+'GHG conversion factor'!D56:D57","v":6.41061},{"$f":"'GHG conversion factor'!D56*H98","v":{"v":0,"d":"0.00"}}]
[null,"Waste","Household Refuse:  Landfill",null,"0","Kg",null,{"v":0,"d":"0.00"},"Tonnes",497.04416,{"$f":"'GHG conversion factor'!D57*H99","v":{"v":0,"d":"0.00"}}]
[null,"Waste","Organic-food and drink: Combustion",null,{"$f":"+'WSA-CC-Waste'!R34:R36","v":"0"},"Kg",null,{"v":0,"d":"0.00"},"Tonnes",{"$f":"+'GHG conversion factor'!D58:D60","v":6.41061},{"$f":"'GHG conversion factor'!D58*H100","v":{"v":0,"d":"0.00"}}]
[null,"Waste","Organic-food and drink: Composting",null,"0","Kg",null,{"v":0,"d":"0.00"},"Tonnes",8.88386,{"$f":"'GHG conversion factor'!D59*H101","v":{"v":0,"d":"0.00"}}]
[null,"Waste","Organic-food and drink: Landfill",null,"0","Kg",null,{"v":0,"d":"0.00"},"Tonnes",700.20961,{"$f":"'GHG conversion factor'!D60*H102","v":{"v":0,"d":"0.00"}}]
[null,"Waste","Commercial & Industrial Refuse: Combustion",null,{"$f":"+'WSA-CC-Waste'!R37:R38","v":"0"},"Kg",null,{"v":0,"d":"0.00"},"Tonnes",{"$f":"+'GHG conversion factor'!D61:D62","v":{"v":6.41061,"d":"6.411"}},{"$f":"'GHG conversion factor'!D61*H103","v":{"v":0,"d":"0.00"}}]
[null,"Waste","Commercial & Industrial Refuse: Landfill",null,"0","Kg",null,{"v":0,"d":"0.00"},"Tonnes",{"v":520.3342,"d":"520.334"},{"$f":"'GHG conversion factor'!D62*H104","v":{"v":0,"d":"0.00"}}]
[null,"Waste","Metal (all kinds of metal for open/Closed-loop, & combustion)",null,{"$f":"+'WSA-CC-Waste'!R39:R40","v":"0"},"Kg",null,{"v":0,"d":"0.00"},"Tonnes",{"$f":"+'GHG conversion factor'!D63:D64","v":{"v":6.41061,"d":"6.411"}},{"$f":"J105*H105","v":{"v":0,"d":"0.00"}}]
[null,"Waste","Metal (all kinds of metal for landfill)",null,"0","Kg",null,{"v":0,"d":"0.00"},"Tonnes",{"v":8.88386,"d":"8.884"},{"v":0,"d":"0.00"}]
[null,"Waste","Plastics (all types): Open, Closed-loop, & combustion",null,{"$f":"+'WSA-CC-Waste'!R41:R42","v":"0"},"Kg",null,{"v":0,"d":"0.00"},"Tonnes",{"$f":"+'GHG conversion factor'!D65:D66","v":6.41061},{"v":0,"d":"0.00"}]
[null,"Waste","Plastics (all types): Landfill",null,"0","Kg",null,{"v":0,"d":"0.00"},"Tonnes",{"v":8.88386,"d":"8.884"},{"v":0,"d":"0.00"}]
[null,"Waste","Paper and board (all types): Closed-loop & combustion",null,{"$f":"+'WSA-CC-Waste'!R43:R45","v":"0"},"Kg",null,{"$f":"E109/1000","v":{"v":0,"d":"0.00"}},"Tonnes",{"$f":"+'GHG conversion factor'!D67:D69","v":{"v":6.41061,"d":"6.411"}},{"v":0,"d":"0.00"}]
[null,"Waste","Paper and board (all types): Composting",null,"0","Kg",null,{"$f":"E110/1000","v":{"v":0,"d":"0.00"}},"Tonnes",8.88386,{"v":0,"d":"0.00"}]
[null,"Waste","Paper and board (all types): Landfill",null,"0","Kg",null,{"$f":"E111/1000","v":{"v":0,"d":"0.00"}},"Tonnes",{"v":1164.39015,"d":"1,164.390"},{"v":0,"d":"0.00"}]
["Total carbon footprint from energy used:",{"$nulls":9},{"$f":"SUM(K77:K111)","v":{"v":0,"d":"0.00"}}]
[]
[]
["Activity","Category of Emissions","Type of emissions",{"$nulls":4},"Total Distance","Unit1","GHG Conversion (kgCO2e)","Carbon footprint (kgCO2e)"]
[null,"Travel-air","Domestic, to/from UK: Average passenger",null,null,"Trip(s)",null,{"$f":"+'WSA-CC-Travel'!R13:R15","v":"0"},"Km",{"$f":"+'GHG conversion factor'!D73:D75","v":{"v":0.27257,"d":"0.273"}},{"$f":"H116*J116","v":{"v":0,"d":"0.00"}}]
[null,"Travel-air","Short-haul, to/from UK: Average passenger (up to 3700km distance).",null,null,"Trip(s)",null,"0","Km",{"v":0.18592,"d":"0.186"},{"$f":"H117*J117","v":{"v":0,"d":"0.00"}}]
[null,"Travel-air","Long-haul, to/from UK: Average passenger  (over 3700km distance).",null,null,"Trip(s)",null,"0","Km",{"v":0.26128,"d":"0.261"},{"$f":"H118*J118","v":{"v":0,"d":"0.00"}}]
[null,"Travel-sea","Foot passenger",null,null,"Trip(s)",null,{"$f":"+'WSA-CC-Travel'!R16:R17","v":"0"},"Km",{"$f":"+'GHG conversion factor'!D76:D77","v":{"v":0.01871,"d":"0.019"}},{"$f":"H119*J119","v":{"v":0,"d":"0.00"}}]
[null,"Travel-sea","Car passenger",null,null,"Trip(s)",null,"0","Km",{"v":0.12933,"d":"0.129"},{"$f":"H120*J120","v":{"v":0,"d":"0.00"}}]
[null,"Travel-land","Diesel Car Size: Small",{"$nulls":4},{"$f":"+'WSA-CC-Travel'!R18:R20","v":"0"},"km",{"$f":"+'GHG conversion factor'!D78:D80","v":{"v":0.13994,"d":"0.140"}},{"$f":"H121*J121","v":{"v":0,"d":"0.00"}}]
[null,"Travel-land","Diesel Car Size: Medium",{"$nulls":4},"0","km",{"v":0.16807,"d":"0.168"},{"v":0,"d":"0.00"}]
[null,"Travel-land","Diesel Car Size: Large",{"$nulls":4},"0","km",{"v":0.20729,"d":"0.207"},{"v":0,"d":"0.00"}]
[null,"Travel-land","Petrol Car Size: Small",{"$nulls":4},{"$f":"+'WSA-CC-Travel'!R21:R23","v":"0"},"km",{"$f":"+'GHG conversion factor'!D81:D83","v":{"v":0.1437,"d":"0.144"}},{"v":0,"d":"0.00"}]
[null,"Travel-land","Petrol Car Size: Medium",{"$nulls":4},"0","km",{"v":0.17726,"d":"0.177"},{"v":0,"d":"0.00"}]
[null,"Travel-land","Petrol Car Size: Large",{"$nulls":4},"0","km",{"v":0.26885,"d":"0.269"},{"v":0,"d":"0.00"}]
[null,"Travel-land","Hybrid Car Size: Small",{"$nulls":4},{"$f":"+'WSA-CC-Travel'!R24:R26","v":"0"},"km",{"$f":"+'GHG conversion factor'!D84:D86","v":{"v":0.11274,"d":"0.113"}},{"v":0,"d":"0.00"}]
[null,"Travel-land","Hybrid Car Size: Medium",{"$nulls":4},"0","km",{"v":0.1149,"d":"0.115"},{"v":0,"d":"0.00"}]
[null,"Travel-land","Hybrid Car Size: Large",{"$nulls":4},"0","km",{"v":0.15486,"d":"0.155"},{"v":0,"d":"0.00"}]
[null,"Travel-land","Plug-in Hybrid Electric Car Size: Small",{"$nulls":4},{"$f":"+'WSA-CC-Travel'!$R$27:$R$30","v":{"$error":"#VALUE!"}},"km",{"$f":"+'GHG conversion factor'!D87:D89","v":{"v":0.06078,"d":"0.061"}},{"$error":"#VALUE!"}]
[null,"Travel-land","Plug-in Hybrid Electric Car Size: Medium",{"$nulls":5},"km",{"v":0.09312,"d":"0.093"},{"v":0,"d":"0.00"}]
[null,"Travel-land","Plug-in Hybrid Electric Car Size: Large",{"$nulls":5},"km",{"v":0.11923,"d":"0.119"},{"v":0,"d":"0.00"}]
[null,"Travel-land","Battery EV Car Size: Small",{"$nulls":4},{"$f":"+'WSA-CC-Travel'!R31:R33","v":"0"},"km",{"v":0.048228,"d":"0.048"},{"v":0,"d":"0.00"}]
[null,"Travel-land","Battery EV Car Size: Medium",{"$nulls":4},"0","km",{"v":0.052666,"d":"0.053"},{"v":0,"d":"0.00"}]
[null,"Travel-land","Battery EV Car Size: Large",{"$nulls":4},"0","km",{"v":0.057974,"d":"0.058"},{"v":0,"d":"0.00"}]
[null,"Travel-land","Motorbike: Small",{"$nulls":4},{"$f":"+'WSA-CC-Travel'!R34:R36","v":"0"},"km",{"$f":"+'GHG conversion factor'!D93:D95","v":{"v":0.08319,"d":"0.083"}},{"v":0,"d":"0.00"}]
[null,"Travel-land","Motorbike: Medium",{"$nulls":4},"0","km",{"v":0.10107,"d":"0.101"},{"v":0,"d":"0.00"}]
[null,"Travel-land","Motorbike: Large",{"$nulls":4},"0","km",{"v":0.13252,"d":"0.133"},{"v":0,"d":"0.00"}]
[null,"Travel-land","Taxis: Regular Taxi",{"$nulls":4},{"$f":"+'WSA-CC-Travel'!R37:R38","v":"0"},"km",{"$f":"+'GHG conversion factor'!D96:D97","v":{"v":0.20805,"d":"0.208"}},{"v":0,"d":"0.00"}]
[null,"Travel-land","Taxis: Black Cab",{"$nulls":4},"0","km",{"v":0.30603,"d":"0.306"},{"v":0,"d":"0.00"}]
[null,"Travel-land","Local bus (not London)",{"$nulls":4},{"$f":"+'WSA-CC-Travel'!R39:R41","v":"0"},"km",{"$f":"+'GHG conversion factor'!D98:D100","v":{"v":0.12999,"d":"0.130"}},{"v":0,"d":"0.00"}]
[null,"Travel-land","Local London bus",{"$nulls":4},"0","km",{"v":0.07447,"d":"0.074"},{"v":0,"d":"0.00"}]
[null,"Travel-land","Coach (intercity bus)",{"$nulls":4},"0","km",{"v":0.02717,"d":"0.027"},{"v":0,"d":"0.00"}]
[null,"Travel-land","National rail",{"$nulls":4},{"$f":"+'WSA-CC-Travel'!R42:R45","v":"0"},"km",{"$f":"+'GHG conversion factor'!D101:D104","v":{"v":0.03546,"d":"0.035"}},{"v":0,"d":"0.00"}]
[null,"Travel-land","International rail",{"$nulls":4},"0","km",{"v":0.00446,"d":"0.004"},{"v":0,"d":"0.00"}]
[null,"Travel-land","Light rail and tram",{"$nulls":4},"0","km",{"v":0.0286,"d":"0.029"},{"v":0,"d":"0.00"}]
[null,"Travel-land","London Underground",{"$nulls":4},"0","km",{"v":0.0278,"d":"0.028"},{"v":0,"d":"0.00"}]
["Total carbon footprint from energy used:",{"$nulls":9},{"$f":"SUM(K113:K147)","v":{"$error":"#VALUE!"}}]
[]
[]
["Activity","Category of Emissions","Type of emissions","Number of vehicle","Number of trip","Freight Weight (kg)","Distance (km)","Amount used",null,"GHG Conversion (kgCO2e)","Carbon footprint (kgCO2e)"]
[null,"Freight-land","Average Diesel Van",null,{"$f":"+'WSA-CC-Freight'!J13:L23","v":{"v":0,"d":"0.00"}},{"v":0,"d":"0.00"},{"v":0,"d":"0.00"},null,"Litres",{"$f":"+'GHG conversion factor'!D107:D117","v":{"v":0.25023,"d":"0.250"}},{"$f":"(E152*(F152/1000)*G152*J152)","v":0}]
[null,"Freight-land","Average Petrol Van",null,{"v":0,"d":"0.00"},{"v":0,"d":"0.00"},{"v":0,"d":"0.00"},null,"Litres",{"v":0.22095,"d":"0.221"},{"$f":"((E153/1000)*F153*G153*J153)","v":{"v":0,"d":"0.00"}}]
[null,"Freight-land","Average Plug-in Hybrid Electric Van",null,{"v":0,"d":"0.00"},{"v":0,"d":"0.00"},{"v":0,"d":"0.00"},null,null,{"v":0.15079,"d":"0.151"},{"v":0,"d":"0.00"}]
[null,"Freight-land","Average Battery Electriv Van",null,{"v":0,"d":"0.00"},{"v":0,"d":"0.00"},{"v":0,"d":"0.00"},null,null,{"v":0.07922,"d":"0.079"},{"v":0,"d":"0.00"}]
[null,"Freight-land","Freight train",null,{"v":0,"d":"0.00"},{"v":0,"d":"0.00"},{"v":0,"d":"0.00"},null,null,{"v":0.02779,"d":"0.028"},{"v":0,"d":"0.00"}]
[null,"Freight-Flights","Domestic, to/from UK",null,{"v":0,"d":"0.00"},{"v":0,"d":"0.00"},{"v":0,"d":"0.00"},null,null,{"v":4.6734,"d":"4.673"},{"v":0,"d":"0.00"}]
[null,"Freight-Flights","Short-haul, to/from UK",null,{"v":0,"d":"0.00"},{"v":0,"d":"0.00"},{"v":0,"d":"0.00"},null,null,{"v":1.66816,"d":"1.668"},{"v":0,"d":"0.00"}]
[null,"Freight-Flights","Long-haul, to/from UK",null,{"v":0,"d":"0.00"},{"v":0,"d":"0.00"},{"v":0,"d":"0.00"},null,null,{"v":1.09904,"d":"1.099"},{"v":0,"d":"0.00"}]
[null,"Freight-Flights","International, to/from non-UK",null,{"v":0,"d":"0.00"},{"v":0,"d":"0.00"},{"v":0,"d":"0.00"},null,null,{"v":1.09904,"d":"1.099"},{"v":0,"d":"0.00"}]
[null,"Feright-sea","General cargo-Average",null,{"v":0,"d":"0.00"},{"v":0,"d":"0.00"},{"v":0,"d":"0.00"},null,null,{"v":0.01321,"d":"0.013"},{"v":0,"d":"0.00"}]
[null,"Feright-sea","Container ship-Average",null,{"v":0,"d":"0.00"},{"v":0,"d":"0.00"},{"v":0,"d":"0.00"},null,null,{"v":0.01612,"d":"0.016"},{"v":0,"d":"0.00"}]
["Total carbon footprint from energy used:",{"$nulls":9},{"$f":"SUM(K152:K162)","v":{"v":0,"d":"0.00"}}]
[]
[]
["Activity","Category of Emissions","Type of emissions","Number of rooms",null,null,"Duration (Nights)","Amount used",null,"GHG Conversion (kgCO2e)","Carbon footprint (kgCO2e)"]
[null,"Hotel stay","UK (London)",{"$nulls":6},{"$f":"+'GHG conversion factor'!D120:D158","v":11.5},{"$f":"D167*G167","v":{"v":0,"d":"0.00"}}]
[null,"Hotel stay","UK (Other)",{"$nulls":6},10.4,{"$f":"D168*G168","v":{"v":0,"d":"0.00"}}]
[null,"Hotel stay","Australia",{"$nulls":6},35,{"$f":"D169*G169","v":{"v":0,"d":"0.00"}}]
[null,"Hotel stay","Belgium",{"$nulls":6},12.2,{"v":0,"d":"0.00"}]
[null,"Hotel stay","Brazil",{"$nulls":6},8.7,{"v":0,"d":"0.00"}]
[null,"Hotel stay","Canada",{"$nulls":6},7.4,{"v":0,"d":"0.00"}]
[null,"Hotel stay","Chile",{"$nulls":6},27.6,{"v":0,"d":"0.00"}]
[null,"Hotel stay","China",{"$nulls":6},53.5,{"v":0,"d":"0.00"}]
[null,"Hotel stay","Colombia",{"$nulls":6},14.7,{"v":0,"d":"0.00"}]
[null,"Hotel stay","Costa Rica",{"$nulls":6},4.7,{"v":0,"d":"0.00"}]
[null,"Hotel stay","Egypt",{"$nulls":6},44.2,{"v":0,"d":"0.00"}]
[null,"Hotel stay","France",{"$nulls":6},6.7,{"v":0,"d":"0.00"}]
[null,"Hotel stay","Germany",{"$nulls":6},13.2,{"v":0,"d":"0.00"}]
[null,"Hotel stay","Hong Kong, China",{"$nulls":6},51.5,{"v":0,"d":"0.00"}]
[null,"Hotel stay","India",{"$nulls":6},58.9,{"v":0,"d":"0.00"}]
[null,"Hotel stay","Indonesia",{"$nulls":6},62.7,{"v":0,"d":"0.00"}]
[null,"Hotel stay","Italy",{"$nulls":6},14.3,{"v":0,"d":"0.00"}]
[null,"Hotel stay","Japan",{"$nulls":6},39,{"v":0,"d":"0.00"}]
[null,"Hotel stay","Jordan",{"$nulls":6},68.9,{"v":0,"d":"0.00"}]
[null,"Hotel stay","Korea",{"$nulls":6},55.8,{"v":0,"d":"0.00"}]
[null,"Hotel stay","Malaysia",{"$nulls":6},61.5,{"v":0,"d":"0.00"}]
[null,"Hotel stay","Maldives",{"$nulls":6},152.2,{"v":0,"d":"0.00"}]
[null,"Hotel stay","Mexico",{"$nulls":6},19.3,{"v":0,"d":"0.00"}]
[null,"Hotel stay","Netherlands",{"$nulls":6},14.8,{"v":0,"d":"0.00"}]
[null,"Hotel stay","Oman",{"$nulls":6},90.3,{"v":0,"d":"0.00"}]
[null,"Hotel stay","Philippines",{"$nulls":6},54.3,{"v":0,"d":"0.00"}]
[null,"Hotel stay","Portugal",{"$nulls":6},19,{"v":0,"d":"0.00"}]
[null,"Hotel stay","Qatar",{"$nulls":6},86.2,{"v":0,"d":"0.00"}]
[null,"Hotel stay","Russian Federation",{"$nulls":6},24.2,{"v":0,"d":"0.00"}]
[null,"Hotel stay","Saudi Arabia",{"$nulls":6},106.4,{"v":0,"d":"0.00"}]
[null,"Hotel stay","Singapore",{"$nulls":6},24.5,{"v":0,"d":"0.00"}]
[null,"Hotel stay","South Africa",{"$nulls":6},51.4,{"v":0,"d":"0.00"}]
[null,"Hotel stay","Spain",{"$nulls":6},7,{"v":0,"d":"0.00"}]
[null,"Hotel stay","Switzerland",{"$nulls":6},6.6,{"v":0,"d":"0.00"}]
[null,"Hotel stay","Thailand",{"$nulls":6},43.4,{"v":0,"d":"0.00"}]
[null,"Hotel stay","Turkey",{"$nulls":6},32.1,{"v":0,"d":"0.00"}]
[null,"Hotel stay","United Arab Emirates",{"$nulls":6},63.8,{"v":0,"d":"0.00"}]
[null,"Hotel stay","United States",{"$nulls":6},16.1,{"v":0,"d":"0.00"}]
[null,"Hotel stay","Vietnam",{"$nulls":6},38.5,{"v":0,"d":"0.00"}]

{"sheet":"GHG conversion factor","index":10,"n_rows":158,"n_cols":7,"rows_kept":158,"merged":[[4,5,4,13],[20,5,21,10]]}
[null,"Category of Emissions","Type of emissions","2024 GHG Conversion (kgCO2e)"]
[null,"Energy","Grid Electricity in the UK",{"v":0.20705,"d":"0.207"},null,"Important note:\nThis tables are the Green House Gas (GHG) Conversion factor for 2023, taken from:\n"]
[null,"Water","Water Supply",{"v":0.15311,"d":"0.153"},null,"Greenhouse gas reporting: conversion factors 2024 - GOV.UK (www.gov.uk)"]
[{"$nulls":5},"This GHG conversion factor MUST be updated every year. "]
[null,"Category of Emissions","Type of emissions","2024 GHG Conversion (kgCO2e)",null,"You are only required to manually update the data in this worksheet and all other worksheet will be updated automatically.\nPLEASE DO NOT MAKE ANY OTHER CHANGES AS IT WILL CAUSE ERRORS."]
[null,"Material","Metals from Primary material production",{"v":3815.78473,"d":"3,815.785"}]
[null,"Material","Metals from Closed-loop source",{"v":1630.78661,"d":"1,630.787"}]
[null,"Material","Aluminium cans and foil (excl. forming) from primary material production",{"v":9106.91851,"d":"9,106.919"}]
[null,"Material","Aluminium cans and foil (excl. forming) from Closed-loop source",{"v":990.4781,"d":"990.478"}]
[null,"Material","Scrap metal from primary material production",{"v":3464.56448,"d":"3,464.564"}]
[null,"Material","Scrap metal from from Closed-loop source",{"v":1620.27606,"d":"1,620.276"}]
[null,"Material","Soil",{"v":0.98485,"d":"0.985"}]
[null,"Material","Plasterboard: Primary material production",{"v":120.05,"d":"120.050"}]
[null,"Material","Plasterboard: Closed-loop source",{"v":32.17,"d":"32.170"}]
[null,"Material","Rubber/ Tyres: Primary material production",{"v":3335.5719,"d":"3,335.572"}]
[null,"Material","Rubber/ Tyres: Re-used",{"v":731.21789,"d":"731.218"}]
[null,"Material","Wood from Primary material production",{"v":269.50416,"d":"269.504"}]
[null,"Material","Wood from Re-used",{"v":38.54288,"d":"38.543"},null,"The following GHG are taken from: "]
[null,"Material","Wood from Closed-loop source",{"v":112.96968372342414,"d":"112.970"},null,"https://www.co2everything.com/category/clothes-and-fabrics"]
[null,"Material","Glass from Primary material production",{"v":1402.76667,"d":"1,402.767"},null,"Yearly update is required!"]
[null,"Material","Glass from Closed-loop source",{"v":823.18954,"d":"823.190"},null,"Please note that the source measures the carbon emission of 2m2 of fabric. That is why the following table devide the original data by 2."]
[null,"Material","Clothing / Fabric from Primary material production",{"v":22310,"d":"22,310.000"}]
[null,"Material","Clothing/ Fabric from Re-used",{"v":152.25,"d":"152.250"},null,"Fabric: Wool",{"$f":"13.89/2","v":6.945}]
[null,"Material","Food and drink",{"v":3701.40359,"d":"3,701.404"},null,"Fabric: Acrylic",{"$f":"11.53/2","v":5.765}]
[null,"Material","Average plastics from Primary material production",{"v":3164.78049,"d":"3,164.780"},null,"Fabric: Cotton",{"$f":"8.3/2","v":4.15}]
[null,"Material","Average plastics from Closed-loop source",{"v":1566.38638,"d":"1,566.386"},null,"Fabric: Silk",{"$f":"7.63/2","v":3.815}]
[null,"Material","Plastics film from Primary material production",{"v":2910.46529,"d":"2,910.465"},null,"Fabric: Nylon",{"$f":"7.31/2","v":3.655}]
[null,"Material","Plastic film from Closed-loop source",{"v":1094.58257,"d":"1,094.583"},null,"Fabric: Polyester",{"$f":"6.4/2","v":3.2}]
[null,"Material","Card Board from Primary material production",{"v":1193.96586,"d":"1,193.966"},null,"Fabric: Linen",{"$f":"4.5/2","v":2.25}]
[null,"Material","Card Board from Closed-loop source",{"v":1092.35486,"d":"1,092.355"}]
[null,"Material","Paper from Primary material production",{"v":1339.31834,"d":"1,339.318"}]
[null,"Material","Paper from Closed-loop source",{"v":1044.31834,"d":"1,044.318"}]
[]
[null,"Category of Emissions","Type of emissions","2024 GHG Conversion (kgCO2e)"]
[null,"Waste","Water - Treatment in cubic meters",{"v":0.18574,"d":"0.186"}]
[null,"Waste","Soils: Closed-loop",{"v":0.98485,"d":"0.985"}]
[null,"Waste","Soils: Landfill",{"v":19.51726,"d":"19.517"}]
[null,"Waste","Plasterboard: Closed-loop",{"v":6.41061,"d":"6.411"}]
[null,"Waste","Plasterboard: Landfill",{"v":71.95,"d":"71.950"}]
[null,"Waste","Rubber/ Tyres: Closed-loop",{"v":6.41061,"d":"6.411"}]
[null,"Waste","Wood: Closed-loop",{"v":6.41061,"d":"6.411"}]
[null,"Waste","Wood: Combustion",{"v":6.41061,"d":"6.411"}]
[null,"Waste","Wood: Composting",{"v":8.88386,"d":"8.884"}]
[null,"Waste","Wood: Landfill",{"v":925.24423,"d":"925.244"}]
[null,"Waste","Books: Closed-loop",{"v":6.41061,"d":"6.411"}]
[null,"Waste","Books: Combustion",{"v":6.41061,"d":"6.411"}]
[null,"Waste","Books: Composting",{"v":8.88386,"d":"8.884"}]
[null,"Waste","Books: Landfill",{"v":1164.39015,"d":"1,164.390"}]
[null,"Waste","Glass: Open-loop",{"v":6.41061,"d":"6.411"}]
[null,"Waste","Glass: Closed-loop",{"v":6.41061,"d":"6.411"}]
[null,"Waste","Glass: Combustion",{"v":6.41061,"d":"6.411"}]
[null,"Waste","Glass: Landfill",{"v":8.88386,"d":"8.884"}]
[null,"Waste","Clothing / Fabric: Closed-loop",{"v":6.41061,"d":"6.411"}]
[null,"Waste","Clothing / Fabric: Combustion",{"v":6.41061,"d":"6.411"}]
[null,"Waste","Clothing / Fabric: Landfill",{"v":496.68303,"d":"496.683"}]
[null,"Waste","Household Refuse: Combustion",{"v":6.41061,"d":"6.411"}]
[null,"Waste","Household Refuse:  Landfill",{"v":497.04416,"d":"497.044"}]
[null,"Waste","Organic-food and drink: Combustion",{"v":6.41061,"d":"6.411"}]
[null,"Waste","Organic-food and drink: Composting",{"v":8.88386,"d":"8.884"}]
[null,"Waste","Organic-food and drink: Landfill",{"v":700.20961,"d":"700.210"}]
[null,"Waste","Commercial & Industrial Refuse: Combustion",{"v":6.41061,"d":"6.411"}]
[null,"Waste","Commercial & Industrial Refuse: Landfill",{"v":520.3342,"d":"520.334"}]
[null,"Waste","Metal (all kinds of metal for open/Closed-loop, & combustion)",{"v":6.41061,"d":"6.411"}]
[null,"Waste","Metal (all kinds of metal for landfill)",{"v":8.88386,"d":"8.884"}]
[null,"Waste","Plastics (all types): Open, Closed-loop, & combustion",{"v":6.41061,"d":"6.411"}]
[null,"Waste","Plastics (all types): Landfill",{"v":8.88386,"d":"8.884"}]
[null,"Waste","Paper and board (all types): Closed-loop & combustion",{"v":6.41061,"d":"6.411"}]
[null,"Waste","Paper and board (all types): Composting",{"v":8.88386,"d":"8.884"}]
[null,"Waste","Paper and board (all types): Landfill",{"v":1164.39015,"d":"1,164.390"}]
[]
[]
[null,"Category of Emissions","Type of emissions","2024 GHG Conversion (kgCO2e)"]
[null,"Travel-air","Domestic, to/from UK: Average passenger",{"v":0.27257,"d":"0.273"}]
[null,"Travel-air","Short-haul, to/from UK: Average passenger (up to 3700km distance).",{"v":0.18592,"d":"0.186"}]
[null,"Travel-air","Long-haul, to/from UK: Average passenger  (over 3700km distance).",{"v":0.26128,"d":"0.261"}]
[null,"Travel-sea","Foot passenger",{"v":0.01871,"d":"0.019"}]
[null,"Travel-sea","Car passenger",{"v":0.12933,"d":"0.129"}]
[null,"Travel-land","Diesel Car Size: Small",{"v":0.13994,"d":"0.140"}]
[null,"Travel-land","Diesel Car Size: Medium",{"v":0.16807,"d":"0.168"}]
[null,"Travel-land","Diesel Car Size: Large",{"v":0.20729,"d":"0.207"}]
[null,"Travel-land","Petrol Car Size: Small",{"v":0.1437,"d":"0.144"}]
[null,"Travel-land","Petrol Car Size: Medium",{"v":0.17726,"d":"0.177"}]
[null,"Travel-land","Petrol Car Size: Large",{"v":0.26885,"d":"0.269"}]
[null,"Travel-land","Hybrid Car Size: Small",{"v":0.11274,"d":"0.113"}]
[null,"Travel-land","Hybrid Car Size: Medium",{"v":0.1149,"d":"0.115"}]
[null,"Travel-land","Hybrid Car Size: Large",{"v":0.15486,"d":"0.155"}]
[null,"Travel-land","Plug-in Hybrid Electric Car Size: Small",{"v":0.06078,"d":"0.061"}]
[null,"Travel-land","Plug-in Hybrid Electric Car Size: Medium",{"v":0.09312,"d":"0.093"}]
[null,"Travel-land","Plug-in Hybrid Electric Car Size: Large",{"v":0.11923,"d":"0.119"}]
[null,"Travel-land","Battery EV Car Size: Small",{"v":0.04284,"d":"0.043"}]
[null,"Travel-land","Battery EV Car Size: Medium",{"v":0.04625,"d":"0.046"}]
[null,"Travel-land","Battery EV Car Size: Large",{"v":0.04925,"d":"0.049"}]
[null,"Travel-land","Motorbike: Small",{"v":0.08319,"d":"0.083"}]
[null,"Travel-land","Motorbike: Medium",{"v":0.10107,"d":"0.101"}]
[null,"Travel-land","Motorbike: Large",{"v":0.13252,"d":"0.133"}]
[null,"Travel-land","Taxis: Regular Taxi",{"v":0.20805,"d":"0.208"}]
[null,"Travel-land","Taxis: Black Cab",{"v":0.30603,"d":"0.306"}]
[null,"Travel-land","Local bus (not London)",{"v":0.12999,"d":"0.130"}]
[null,"Travel-land","Local London bus",{"v":0.07447,"d":"0.074"}]
[null,"Travel-land","Coach (intercity bus)",{"v":0.02717,"d":"0.027"}]
[null,"Travel-land","National rail",{"v":0.03546,"d":"0.035"}]
[null,"Travel-land","International rail",{"v":0.00446,"d":"0.004"}]
[null,"Travel-land","Light rail and tram",{"v":0.0286,"d":"0.029"}]
[null,"Travel-land","London Underground",{"v":0.0278,"d":"0.028"}]
[]
[null,"Category of Emissions","Type of emissions","2024 GHG Conversion (kgCO2e)"]
[null,"Freight-land","Average Diesel Van",{"v":0.25023,"d":"0.250"}]
[null,"Freight-land","Average Petrol Van",{"v":0.22095,"d":"0.221"}]
[null,"Freight-land","Average Plug-in Hybrid Electric Van",{"v":0.15079,"d":"0.151"}]
[null,"Freight-land","Average Battery Electriv Van",{"v":0.07922,"d":"0.079"}]
[null,"Freight-land","Freight train",{"v":0.02779,"d":"0.028"}]
[null,"Freight-Flights","Domestic, to/from UK",{"v":4.6734,"d":"4.673"}]
[null,"Freight-Flights","Short-haul, to/from UK",{"v":1.66816,"d":"1.668"}]
[null,"Freight-Flights","Long-haul, to/from UK",{"v":1.09904,"d":"1.099"}]
[null,"Freight-Flights","International, to/from non-UK",{"v":1.09904,"d":"1.099"}]
[null,"Feright-sea","General cargo-Average",{"v":0.01321,"d":"0.013"}]
[null,"Feright-sea","Container ship-Average",{"v":0.01612,"d":"0.016"}]
[]
[null,"Category of Emissions","Type of emissions","2024 GHG Conversion (kgCO2e)"]
[null,"Hotel stay","UK (London)",{"v":11.5,"d":"11.500"}]
[null,"Hotel stay","UK (Other)",{"v":10.4,"d":"10.400"}]
[null,"Hotel stay","Australia",{"v":35,"d":"35.000"}]
[null,"Hotel stay","Belgium",{"v":12.2,"d":"12.200"}]
[null,"Hotel stay","Brazil",{"v":8.7,"d":"8.700"}]
[null,"Hotel stay","Canada",{"v":7.4,"d":"7.400"}]
[null,"Hotel stay","Chile",{"v":27.6,"d":"27.600"}]
[null,"Hotel stay","China",{"v":53.5,"d":"53.500"}]
[null,"Hotel stay","Colombia",{"v":14.7,"d":"14.700"}]
[null,"Hotel stay","Costa Rica",{"v":4.7,"d":"4.700"}]
[null,"Hotel stay","Egypt",{"v":44.2,"d":"44.200"}]
[null,"Hotel stay","France",{"v":6.7,"d":"6.700"}]
[null,"Hotel stay","Germany",{"v":13.2,"d":"13.200"}]
[null,"Hotel stay","Hong Kong, China",{"v":51.5,"d":"51.500"}]
[null,"Hotel stay","India",{"v":58.9,"d":"58.900"}]
[null,"Hotel stay","Indonesia",{"v":62.7,"d":"62.700"}]
[null,"Hotel stay","Italy",{"v":14.3,"d":"14.300"}]
[null,"Hotel stay","Japan",{"v":39,"d":"39.000"}]
[null,"Hotel stay","Jordan",{"v":68.9,"d":"68.900"}]
[null,"Hotel stay","Korea",{"v":55.8,"d":"55.800"}]
[null,"Hotel stay","Malaysia",{"v":61.5,"d":"61.500"}]
[null,"Hotel stay","Maldives",{"v":152.2,"d":"152.200"}]
[null,"Hotel stay","Mexico",{"v":19.3,"d":"19.300"}]
[null,"Hotel stay","Netherlands",{"v":14.8,"d":"14.800"}]
[null,"Hotel stay","Oman",{"v":90.3,"d":"90.300"}]
[null,"Hotel stay","Philippines",{"v":54.3,"d":"54.300"}]
[null,"Hotel stay","Portugal",{"v":19,"d":"19.000"}]
[null,"Hotel stay","Qatar",{"v":86.2,"d":"86.200"}]
[null,"Hotel stay","Russian Federation",{"v":24.2,"d":"24.200"}]
[null,"Hotel stay","Saudi Arabia",{"v":106.4,"d":"106.400"}]
[null,"Hotel stay","Singapore",{"v":24.5,"d":"24.500"}]
[null,"Hotel stay","South Africa",{"v":51.4,"d":"51.400"}]
[null,"Hotel stay","Spain",{"v":7,"d":"7.000"}]
[null,"Hotel stay","Switzerland",{"v":6.6,"d":"6.600"}]
[null,"Hotel stay","Thailand",{"v":43.4,"d":"43.400"}]
[null,"Hotel stay","Turkey",{"v":32.1,"d":"32.100"}]
[null,"Hotel stay","United Arab Emirates",{"v":63.8,"d":"63.800"}]
[null,"Hotel stay","United States",{"v":16.1,"d":"16.100"}]
[null,"Hotel stay","Vietnam",{"v":38.5,"d":"38.500"}]